Workbook

Sheet Date de baza
A1: Data | B1: Matca depune | C1: Ies | D1: Traiesc zile | E1: Data eclozionare | F1: Traiesc pana la | G1: Albine in stup | H1: Kg albine | I1: Culegatoare | J1: % din total | K1: Rest | L1: Nr rame de albina
A2: 42948 | B2: 800 | C2: =B2*90% -> 720 | D2: 45 | E2: =A2+21 -> 42969 | F2: =E2+D2 -> 43014 | G2: =SUMIF('Date de baza'!E:E,"<="&A2,'Date de baza'!C:C)-SUMIF('Date de baza'!F:F,"<"&A2,'Date de baza'!C:C) -> 0 | H2: =G2*0.0001 -> 0 | I2: =IF(G2<10000,G2*20%,IF(G2<20000,G2*25%,IF(G2<25000,G2*30%,IF(G2<30000,G2*33%,IF(G2<40000,G2*50%,IF(G2<50000,G2*60%,G2*60%)))))) -> 0 | J2: =I2/G2 -> #DIV/0! | K2: =G2-I2 -> 0 | L2: =G2/2500 -> 0
A3: 42949 | B3: 800 | C3: =B3*90% -> 720 | D3: 45 | E3: =A3+21 -> 42970 | F3: =E3+D3 -> 43015 | G3: =SUMIF('Date de baza'!E:E,"<="&A3,'Date de baza'!C:C)-SUMIF('Date de baza'!F:F,"<"&A3,'Date de baza'!C:C) -> 0 | H3: =G3*0.0001 -> 0 | I3: =IF(G3<10000,G3*20%,IF(G3<20000,G3*25%,IF(G3<25000,G3*30%,IF(G3<30000,G3*33%,IF(G3<40000,G3*50%,IF(G3<50000,G3*60%,G3*60%)))))) -> 0 | J3: =I3/G3 -> #DIV/0! | K3: =G3-I3 -> 0 | L3: =G3/2500 -> 0
A4: 42950 | B4: 800 | C4: =B4*90% -> 720 | D4: 45 | E4: =A4+21 -> 42971 | F4: =E4+D4 -> 43016 | G4: =SUMIF('Date de baza'!E:E,"<="&A4,'Date de baza'!C:C)-SUMIF('Date de baza'!F:F,"<"&A4,'Date de baza'!C:C) -> 0 | H4: =G4*0.0001 -> 0 | I4: =IF(G4<10000,G4*20%,IF(G4<20000,G4*25%,IF(G4<25000,G4*30%,IF(G4<30000,G4*33%,IF(G4<40000,G4*50%,IF(G4<50000,G4*60%,G4*60%)))))) -> 0 | J4: =I4/G4 -> #DIV/0! | K4: =G4-I4 -> 0 | L4: =G4/2500 -> 0
A5: 42951 | B5: 800 | C5: =B5*90% -> 720 | D5: 45 | E5: =A5+21 -> 42972 | F5: =E5+D5 -> 43017 | G5: =SUMIF('Date de baza'!E:E,"<="&A5,'Date de baza'!C:C)-SUMIF('Date de baza'!F:F,"<"&A5,'Date de baza'!C:C) -> 0 | H5: =G5*0.0001 -> 0 | I5: =IF(G5<10000,G5*20%,IF(G5<20000,G5*25%,IF(G5<25000,G5*30%,IF(G5<30000,G5*33%,IF(G5<40000,G5*50%,IF(G5<50000,G5*60%,G5*60%)))))) -> 0 | J5: =I5/G5 -> #DIV/0! | K5: =G5-I5 -> 0 | L5: =G5/2500 -> 0
A6: 42952 | B6: 800 | C6: =B6*90% -> 720 | D6: 45 | E6: =A6+21 -> 42973 | F6: =E6+D6 -> 43018 | G6: =SUMIF('Date de baza'!E:E,"<="&A6,'Date de baza'!C:C)-SUMIF('Date de baza'!F:F,"<"&A6,'Date de baza'!C:C) -> 0 | H6: =G6*0.0001 -> 0 | I6: =IF(G6<10000,G6*20%,IF(G6<20000,G6*25%,IF(G6<25000,G6*30%,IF(G6<30000,G6*33%,IF(G6<40000,G6*50%,IF(G6<50000,G6*60%,G6*60%)))))) -> 0 | J6: =I6/G6 -> #DIV/0! | K6: =G6-I6 -> 0 | L6: =G6/2500 -> 0
A7: 42953 | B7: 800 | C7: =B7*90% -> 720 | D7: 45 | E7: =A7+21 -> 42974 | F7: =E7+D7 -> 43019 | G7: =SUMIF('Date de baza'!E:E,"<="&A7,'Date de baza'!C:C)-SUMIF('Date de baza'!F:F,"<"&A7,'Date de baza'!C:C) -> 0 | H7: =G7*0.0001 -> 0 | I7: =IF(G7<10000,G7*20%,IF(G7<20000,G7*25%,IF(G7<25000,G7*30%,IF(G7<30000,G7*33%,IF(G7<40000,G7*50%,IF(G7<50000,G7*60%,G7*60%)))))) -> 0 | J7: =I7/G7 -> #DIV/0! | K7: =G7-I7 -> 0 | L7: =G7/2500 -> 0
A8: 42954 | B8: 800 | C8: =B8*90% -> 720 | D8: 45 | E8: =A8+21 -> 42975 | F8: =E8+D8 -> 43020 | G8: =SUMIF('Date de baza'!E:E,"<="&A8,'Date de baza'!C:C)-SUMIF('Date de baza'!F:F,"<"&A8,'Date de baza'!C:C) -> 0 | H8: =G8*0.0001 -> 0 | I8: =IF(G8<10000,G8*20%,IF(G8<20000,G8*25%,IF(G8<25000,G8*30%,IF(G8<30000,G8*33%,IF(G8<40000,G8*50%,IF(G8<50000,G8*60%,G8*60%)))))) -> 0 | J8: =I8/G8 -> #DIV/0! | K8: =G8-I8 -> 0 | L8: =G8/2500 -> 0
A9: 42955 | B9: 800 | C9: =B9*90% -> 720 | D9: 45 | E9: =A9+21 -> 42976 | F9: =E9+D9 -> 43021 | G9: =SUMIF('Date de baza'!E:E,"<="&A9,'Date de baza'!C:C)-SUMIF('Date de baza'!F:F,"<"&A9,'Date de baza'!C:C) -> 0 | H9: =G9*0.0001 -> 0 | I9: =IF(G9<10000,G9*20%,IF(G9<20000,G9*25%,IF(G9<25000,G9*30%,IF(G9<30000,G9*33%,IF(G9<40000,G9*50%,IF(G9<50000,G9*60%,G9*60%)))))) -> 0 | J9: =I9/G9 -> #DIV/0! | K9: =G9-I9 -> 0 | L9: =G9/2500 -> 0
A10: 42956 | B10: 800 | C10: =B10*90% -> 720 | D10: 45 | E10: =A10+21 -> 42977 | F10: =E10+D10 -> 43022 | G10: =SUMIF('Date de baza'!E:E,"<="&A10,'Date de baza'!C:C)-SUMIF('Date de baza'!F:F,"<"&A10,'Date de baza'!C:C) -> 0 | H10: =G10*0.0001 -> 0 | I10: =IF(G10<10000,G10*20%,IF(G10<20000,G10*25%,IF(G10<25000,G10*30%,IF(G10<30000,G10*33%,IF(G10<40000,G10*50%,IF(G10<50000,G10*60%,G10*60%)))))) -> 0 | J10: =I10/G10 -> #DIV/0! | K10: =G10-I10 -> 0 | L10: =G10/2500 -> 0
A11: 42957 | B11: 800 | C11: =B11*90% -> 720 | D11: 45 | E11: =A11+21 -> 42978 | F11: =E11+D11 -> 43023 | G11: =SUMIF('Date de baza'!E:E,"<="&A11,'Date de baza'!C:C)-SUMIF('Date de baza'!F:F,"<"&A11,'Date de baza'!C:C) -> 0 | H11: =G11*0.0001 -> 0 | I11: =IF(G11<10000,G11*20%,IF(G11<20000,G11*25%,IF(G11<25000,G11*30%,IF(G11<30000,G11*33%,IF(G11<40000,G11*50%,IF(G11<50000,G11*60%,G11*60%)))))) -> 0 | J11: =I11/G11 -> #DIV/0! | K11: =G11-I11 -> 0 | L11: =G11/2500 -> 0
A12: 42958 | B12: 800 | C12: =B12*90% -> 720 | D12: 45 | E12: =A12+21 -> 42979 | F12: =E12+D12 -> 43024 | G12: =SUMIF('Date de baza'!E:E,"<="&A12,'Date de baza'!C:C)-SUMIF('Date de baza'!F:F,"<"&A12,'Date de baza'!C:C) -> 0 | H12: =G12*0.0001 -> 0 | I12: =IF(G12<10000,G12*20%,IF(G12<20000,G12*25%,IF(G12<25000,G12*30%,IF(G12<30000,G12*33%,IF(G12<40000,G12*50%,IF(G12<50000,G12*60%,G12*60%)))))) -> 0 | J12: =I12/G12 -> #DIV/0! | K12: =G12-I12 -> 0 | L12: =G12/2500 -> 0
A13: 42959 | B13: 800 | C13: =B13*90% -> 720 | D13: 45 | E13: =A13+21 -> 42980 | F13: =E13+D13 -> 43025 | G13: =SUMIF('Date de baza'!E:E,"<="&A13,'Date de baza'!C:C)-SUMIF('Date de baza'!F:F,"<"&A13,'Date de baza'!C:C) -> 0 | H13: =G13*0.0001 -> 0 | I13: =IF(G13<10000,G13*20%,IF(G13<20000,G13*25%,IF(G13<25000,G13*30%,IF(G13<30000,G13*33%,IF(G13<40000,G13*50%,IF(G13<50000,G13*60%,G13*60%)))))) -> 0 | J13: =I13/G13 -> #DIV/0! | K13: =G13-I13 -> 0 | L13: =G13/2500 -> 0
... A77: 43023 | B77: 200 | C77: =B77*90% -> 180 | D77: 180 | E77: =A77+21 -> 43044 | F77: =E77+D77 -> 43224 | G77: =SUMIF('Date de baza'!E:E,"<="&A77,'Date de baza'!C:C)-SUMIF('Date de baza'!F:F,"<"&A77,'Date de baza'!C:C) -> 28800 | H77: =G77*0.0001 -> 2.88 | I77: =IF(G77<10000,G77*20%,IF(G77<20000,G77*25%,IF(G77<25000,G77*30%,IF(G77<30000,G77*33%,IF(G77<40000,G77*50%,IF(G77<50000,G77*60%,G77*60%)))))) -> 9504 | J77: =I77/G77 -> 0.33 | K77: =G77-I77 -> 19296 | L77: =G77/2500 -> 11.52
A78: 43024 | B78: 100 | C78: =B78*90% -> 90 | D78: =7*30 -> 210 | E78: =A78+21 -> 43045 | F78: =E78+D78 -> 43255 | G78: =SUMIF('Date de baza'!E:E,"<="&A78,'Date de baza'!C:C)-SUMIF('Date de baza'!F:F,"<"&A78,'Date de baza'!C:C) -> 28620 | H78: =G78*0.0001 -> 2.862 | I78: =IF(G78<10000,G78*20%,IF(G78<20000,G78*25%,IF(G78<25000,G78*30%,IF(G78<30000,G78*33%,IF(G78<40000,G78*50%,IF(G78<50000,G78*60%,G78*60%)))))) -> 9444.6 | J78: =I78/G78 -> 0.33 | K78: =G78-I78 -> 19175.4 | L78: =G78/2500 -> 11.448
A79: 43025 | B79: 100 | C79: =B79*90% -> 90 | D79: =7*30 -> 210 | E79: =A79+21 -> 43046 | F79: =E79+D79 -> 43256 | G79: =SUMIF('Date de baza'!E:E,"<="&A79,'Date de baza'!C:C)-SUMIF('Date de baza'!F:F,"<"&A79,'Date de baza'!C:C) -> 28440 | H79: =G79*0.0001 -> 2.844 | I79: =IF(G79<10000,G79*20%,IF(G79<20000,G79*25%,IF(G79<25000,G79*30%,IF(G79<30000,G79*33%,IF(G79<40000,G79*50%,IF(G79<50000,G79*60%,G79*60%)))))) -> 9385.2 | J79: =I79/G79 -> 0.33 | K79: =G79-I79 -> 19054.8 | L79: =G79/2500 -> 11.376
A80: 43026 | B80: 100 | C80: =B80*90% -> 90 | D80: =7*30 -> 210 | E80: =A80+21 -> 43047 | F80: =E80+D80 -> 43257 | G80: =SUMIF('Date de baza'!E:E,"<="&A80,'Date de baza'!C:C)-SUMIF('Date de baza'!F:F,"<"&A80,'Date de baza'!C:C) -> 28260 | H80: =G80*0.0001 -> 2.826 | I80: =IF(G80<10000,G80*20%,IF(G80<20000,G80*25%,IF(G80<25000,G80*30%,IF(G80<30000,G80*33%,IF(G80<40000,G80*50%,IF(G80<50000,G80*60%,G80*60%)))))) -> 9325.8 | J80: =I80/G80 -> 0.33 | K80: =G80-I80 -> 18934.2 | L80: =G80/2500 -> 11.304
A81: 43027 | B81: 100 | C81: =B81*90% -> 90 | D81: =7*30 -> 210 | E81: =A81+21 -> 43048 | F81: =E81+D81 -> 43258 | G81: =SUMIF('Date de baza'!E:E,"<="&A81,'Date de baza'!C:C)-SUMIF('Date de baza'!F:F,"<"&A81,'Date de baza'!C:C) -> 28080 | H81: =G81*0.0001 -> 2.808 | I81: =IF(G81<10000,G81*20%,IF(G81<20000,G81*25%,IF(G81<25000,G81*30%,IF(G81<30000,G81*33%,IF(G81<40000,G81*50%,IF(G81<50000,G81*60%,G81*60%)))))) -> 9266.4 | J81: =I81/G81 -> 0.33 | K81: =G81-I81 -> 18813.6 | L81: =G81/2500 -> 11.232
A82: 43028 | B82: 100 | C82: =B82*90% -> 90 | D82: =7*30 -> 210 | E82: =A82+21 -> 43049 | F82: =E82+D82 -> 43259 | G82: =SUMIF('Date de baza'!E:E,"<="&A82,'Date de baza'!C:C)-SUMIF('Date de baza'!F:F,"<"&A82,'Date de baza'!C:C) -> 27900 | H82: =G82*0.0001 -> 2.79 | I82: =IF(G82<10000,G82*20%,IF(G82<20000,G82*25%,IF(G82<25000,G82*30%,IF(G82<30000,G82*33%,IF(G82<40000,G82*50%,IF(G82<50000,G82*60%,G82*60%)))))) -> 9207 | J82: =I82/G82 -> 0.33 | K82: =G82-I82 -> 18693 | L82: =G82/2500 -> 11.16
A83: 43029 | B83: 100 | C83: =B83*90% -> 90 | D83: =7*30 -> 210 | E83: =A83+21 -> 43050 | F83: =E83+D83 -> 43260 | G83: =SUMIF('Date de baza'!E:E,"<="&A83,'Date de baza'!C:C)-SUMIF('Date de baza'!F:F,"<"&A83,'Date de baza'!C:C) -> 27720 | H83: =G83*0.0001 -> 2.772 | I83: =IF(G83<10000,G83*20%,IF(G83<20000,G83*25%,IF(G83<25000,G83*30%,IF(G83<30000,G83*33%,IF(G83<40000,G83*50%,IF(G83<50000,G83*60%,G83*60%)))))) -> 9147.6 | J83: =I83/G83 -> 0.33 | K83: =G83-I83 -> 18572.4 | L83: =G83/2500 -> 11.088
A84: 43030 | B84: 100 | C84: =B84*90% -> 90 | D84: =7*30 -> 210 | E84: =A84+21 -> 43051 | F84: =E84+D84 -> 43261 | G84: =SUMIF('Date de baza'!E:E,"<="&A84,'Date de baza'!C:C)-SUMIF('Date de baza'!F:F,"<"&A84,'Date de baza'!C:C) -> 27900 | H84: =G84*0.0001 -> 2.79 | I84: =IF(G84<10000,G84*20%,IF(G84<20000,G84*25%,IF(G84<25000,G84*30%,IF(G84<30000,G84*33%,IF(G84<40000,G84*50%,IF(G84<50000,G84*60%,G84*60%)))))) -> 9207 | J84: =I84/G84 -> 0.33 | K84: =G84-I84 -> 18693 | L84: =G84/2500 -> 11.16
A85: 43031 | B85: 100 | C85: =B85*90% -> 90 | D85: =7*30 -> 210 | E85: =A85+21 -> 43052 | F85: =E85+D85 -> 43262 | G85: =SUMIF('Date de baza'!E:E,"<="&A85,'Date de baza'!C:C)-SUMIF('Date de baza'!F:F,"<"&A85,'Date de baza'!C:C) -> 28080 | H85: =G85*0.0001 -> 2.808 | I85: =IF(G85<10000,G85*20%,IF(G85<20000,G85*25%,IF(G85<25000,G85*30%,IF(G85<30000,G85*33%,IF(G85<40000,G85*50%,IF(G85<50000,G85*60%,G85*60%)))))) -> 9266.4 | J85: =I85/G85 -> 0.33 | K85: =G85-I85 -> 18813.6 | L85: =G85/2500 -> 11.232
A86: 43032 | B86: 100 | C86: =B86*90% -> 90 | D86: =7*30 -> 210 | E86: =A86+21 -> 43053 | F86: =E86+D86 -> 43263 | G86: =SUMIF('Date de baza'!E:E,"<="&A86,'Date de baza'!C:C)-SUMIF('Date de baza'!F:F,"<"&A86,'Date de baza'!C:C) -> 28260 | H86: =G86*0.0001 -> 2.826 | I86: =IF(G86<10000,G86*20%,IF(G86<20000,G86*25%,IF(G86<25000,G86*30%,IF(G86<30000,G86*33%,IF(G86<40000,G86*50%,IF(G86<50000,G86*60%,G86*60%)))))) -> 9325.8 | J86: =I86/G86 -> 0.33 | K86: =G86-I86 -> 18934.2 | L86: =G86/2500 -> 11.304
A87: 43033 | B87: 100 | C87: =B87*90% -> 90 | D87: =7*30 -> 210 | E87: =A87+21 -> 43054 | F87: =E87+D87 -> 43264 | G87: =SUMIF('Date de baza'!E:E,"<="&A87,'Date de baza'!C:C)-SUMIF('Date de baza'!F:F,"<"&A87,'Date de baza'!C:C) -> 28440 | H87: =G87*0.0001 -> 2.844 | I87: =IF(G87<10000,G87*20%,IF(G87<20000,G87*25%,IF(G87<25000,G87*30%,IF(G87<30000,G87*33%,IF(G87<40000,G87*50%,IF(G87<50000,G87*60%,G87*60%)))))) -> 9385.2 | J87: =I87/G87 -> 0.33 | K87: =G87-I87 -> 19054.8 | L87: =G87/2500 -> 11.376
A88: 43034 | B88: 100 | C88: =B88*90% -> 90 | D88: =7*30 -> 210 | E88: =A88+21 -> 43055 | F88: =E88+D88 -> 43265 | G88: =SUMIF('Date de baza'!E:E,"<="&A88,'Date de baza'!C:C)-SUMIF('Date de baza'!F:F,"<"&A88,'Date de baza'!C:C) -> 28620 | H88: =G88*0.0001 -> 2.862 | I88: =IF(G88<10000,G88*20%,IF(G88<20000,G88*25%,IF(G88<25000,G88*30%,IF(G88<30000,G88*33%,IF(G88<40000,G88*50%,IF(G88<50000,G88*60%,G88*60%)))))) -> 9444.6 | J88: =I88/G88 -> 0.33 | K88: =G88-I88 -> 19175.4 | L88: =G88/2500 -> 11.448
A89: 43035 | B89: 100 | C89: =B89*90% -> 90 | D89: =7*30 -> 210 | E89: =A89+21 -> 43056 | F89: =E89+D89 -> 43266 | G89: =SUMIF('Date de baza'!E:E,"<="&A89,'Date de baza'!C:C)-SUMIF('Date de baza'!F:F,"<"&A89,'Date de baza'!C:C) -> 28800 | H89: =G89*0.0001 -> 2.88 | I89: =IF(G89<10000,G89*20%,IF(G89<20000,G89*25%,IF(G89<25000,G89*30%,IF(G89<30000,G89*33%,IF(G89<40000,G89*50%,IF(G89<50000,G89*60%,G89*60%)))))) -> 9504 | J89: =I89/G89 -> 0.33 | K89: =G89-I89 -> 19296 | L89: =G89/2500 -> 11.52
... A103: 43049 | B103: 20 | C103: =B103*90% -> 18 | D103: =7*30 -> 210 | E103: =A103+21 -> 43070 | F103: =E103+D103 -> 43280 | G103: =SUMIF('Date de baza'!E:E,"<="&A103,'Date de baza'!C:C)-SUMIF('Date de baza'!F:F,"<"&A103,'Date de baza'!C:C) -> 27270 | H103: =G103*0.0001 -> 2.727 | I103: =IF(G103<10000,G103*20%,IF(G103<20000,G103*25%,IF(G103<25000,G103*30%,IF(G103<30000,G103*33%,IF(G103<40000,G103*50%,IF(G103<50000,G103*60%,G103*60%)))))) -> 8999.1 | J103: =I103/G103 -> 0.33 | K103: =G103-I103 -> 18270.9 | L103: =G103/2500 -> 10.908
A104: 43050 | B104: 20 | C104: =B104*90% -> 18 | D104: =6*30 -> 180 | E104: =A104+21 -> 43071 | F104: =E104+D104 -> 43251 | G104: =SUMIF('Date de baza'!E:E,"<="&A104,'Date de baza'!C:C)-SUMIF('Date de baza'!F:F,"<"&A104,'Date de baza'!C:C) -> 26640 | H104: =G104*0.0001 -> 2.664 | I104: =IF(G104<10000,G104*20%,IF(G104<20000,G104*25%,IF(G104<25000,G104*30%,IF(G104<30000,G104*33%,IF(G104<40000,G104*50%,IF(G104<50000,G104*60%,G104*60%)))))) -> 8791.2 | J104: =I104/G104 -> 0.33 | K104: =G104-I104 -> 17848.8 | L104: =G104/2500 -> 10.656
A105: 43051 | B105: 20 | C105: =B105*90% -> 18 | D105: =6*30 -> 180 | E105: =A105+21 -> 43072 | F105: =E105+D105 -> 43252 | G105: =SUMIF('Date de baza'!E:E,"<="&A105,'Date de baza'!C:C)-SUMIF('Date de baza'!F:F,"<"&A105,'Date de baza'!C:C) -> 26010 | H105: =G105*0.0001 -> 2.601 | I105: =IF(G105<10000,G105*20%,IF(G105<20000,G105*25%,IF(G105<25000,G105*30%,IF(G105<30000,G105*33%,IF(G105<40000,G105*50%,IF(G105<50000,G105*60%,G105*60%)))))) -> 8583.3 | J105: =I105/G105 -> 0.33 | K105: =G105-I105 -> 17426.7 | L105: =G105/2500 -> 10.404
A106: 43052 | B106: 20 | C106: =B106*90% -> 18 | D106: =6*30 -> 180 | E106: =A106+21 -> 43073 | F106: =E106+D106 -> 43253 | G106: =SUMIF('Date de baza'!E:E,"<="&A106,'Date de baza'!C:C)-SUMIF('Date de baza'!F:F,"<"&A106,'Date de baza'!C:C) -> 25380 | H106: =G106*0.0001 -> 2.538 | I106: =IF(G106<10000,G106*20%,IF(G106<20000,G106*25%,IF(G106<25000,G106*30%,IF(G106<30000,G106*33%,IF(G106<40000,G106*50%,IF(G106<50000,G106*60%,G106*60%)))))) -> 8375.4 | J106: =I106/G106 -> 0.33 | K106: =G106-I106 -> 17004.6 | L106: =G106/2500 -> 10.152
A107: 43053 | B107: 20 | C107: =B107*90% -> 18 | D107: =6*30 -> 180 | E107: =A107+21 -> 43074 | F107: =E107+D107 -> 43254 | G107: =SUMIF('Date de baza'!E:E,"<="&A107,'Date de baza'!C:C)-SUMIF('Date de baza'!F:F,"<"&A107,'Date de baza'!C:C) -> 24750 | H107: =G107*0.0001 -> 2.475 | I107: =IF(G107<10000,G107*20%,IF(G107<20000,G107*25%,IF(G107<25000,G107*30%,IF(G107<30000,G107*33%,IF(G107<40000,G107*50%,IF(G107<50000,G107*60%,G107*60%)))))) -> 7425 | J107: =I107/G107 -> 0.3 | K107: =G107-I107 -> 17325 | L107: =G107/2500 -> 9.9
A108: 43054 | B108: 20 | C108: =B108*90% -> 18 | D108: =6*30 -> 180 | E108: =A108+21 -> 43075 | F108: =E108+D108 -> 43255 | G108: =SUMIF('Date de baza'!E:E,"<="&A108,'Date de baza'!C:C)-SUMIF('Date de baza'!F:F,"<"&A108,'Date de baza'!C:C) -> 24120 | H108: =G108*0.0001 -> 2.412 | I108: =IF(G108<10000,G108*20%,IF(G108<20000,G108*25%,IF(G108<25000,G108*30%,IF(G108<30000,G108*33%,IF(G108<40000,G108*50%,IF(G108<50000,G108*60%,G108*60%)))))) -> 7236 | J108: =I108/G108 -> 0.3 | K108: =G108-I108 -> 16884 | L108: =G108/2500 -> 9.648
A109: 43055 | B109: 20 | C109: =B109*90% -> 18 | D109: =6*30 -> 180 | E109: =A109+21 -> 43076 | F109: =E109+D109 -> 43256 | G109: =SUMIF('Date de baza'!E:E,"<="&A109,'Date de baza'!C:C)-SUMIF('Date de baza'!F:F,"<"&A109,'Date de baza'!C:C) -> 23490 | H109: =G109*0.0001 -> 2.349 | I109: =IF(G109<10000,G109*20%,IF(G109<20000,G109*25%,IF(G109<25000,G109*30%,IF(G109<30000,G109*33%,IF(G109<40000,G109*50%,IF(G109<50000,G109*60%,G109*60%)))))) -> 7047 | J109: =I109/G109 -> 0.3 | K109: =G109-I109 -> 16443 | L109: =G109/2500 -> 9.396
A110: 43056 | B110: 20 | C110: =B110*90% -> 18 | D110: =6*30 -> 180 | E110: =A110+21 -> 43077 | F110: =E110+D110 -> 43257 | G110: =SUMIF('Date de baza'!E:E,"<="&A110,'Date de baza'!C:C)-SUMIF('Date de baza'!F:F,"<"&A110,'Date de baza'!C:C) -> 22860 | H110: =G110*0.0001 -> 2.286 | I110: =IF(G110<10000,G110*20%,IF(G110<20000,G110*25%,IF(G110<25000,G110*30%,IF(G110<30000,G110*33%,IF(G110<40000,G110*50%,IF(G110<50000,G110*60%,G110*60%)))))) -> 6858 | J110: =I110/G110 -> 0.3 | K110: =G110-I110 -> 16002 | L110: =G110/2500 -> 9.144
A111: 43057 | B111: 20 | C111: =B111*90% -> 18 | D111: =6*30 -> 180 | E111: =A111+21 -> 43078 | F111: =E111+D111 -> 43258 | G111: =SUMIF('Date de baza'!E:E,"<="&A111,'Date de baza'!C:C)-SUMIF('Date de baza'!F:F,"<"&A111,'Date de baza'!C:C) -> 22230 | H111: =G111*0.0001 -> 2.223 | I111: =IF(G111<10000,G111*20%,IF(G111<20000,G111*25%,IF(G111<25000,G111*30%,IF(G111<30000,G111*33%,IF(G111<40000,G111*50%,IF(G111<50000,G111*60%,G111*60%)))))) -> 6669 | J111: =I111/G111 -> 0.3 | K111: =G111-I111 -> 15561 | L111: =G111/2500 -> 8.892
A112: 43058 | B112: 20 | C112: =B112*90% -> 18 | D112: =6*30 -> 180 | E112: =A112+21 -> 43079 | F112: =E112+D112 -> 43259 | G112: =SUMIF('Date de baza'!E:E,"<="&A112,'Date de baza'!C:C)-SUMIF('Date de baza'!F:F,"<"&A112,'Date de baza'!C:C) -> 21600 | H112: =G112*0.0001 -> 2.16 | I112: =IF(G112<10000,G112*20%,IF(G112<20000,G112*25%,IF(G112<25000,G112*30%,IF(G112<30000,G112*33%,IF(G112<40000,G112*50%,IF(G112<50000,G112*60%,G112*60%)))))) -> 6480 | J112: =I112/G112 -> 0.3 | K112: =G112-I112 -> 15120 | L112: =G112/2500 -> 8.64
A113: 43059 | B113: 20 | C113: =B113*90% -> 18 | D113: =6*30 -> 180 | E113: =A113+21 -> 43080 | F113: =E113+D113 -> 43260 | G113: =SUMIF('Date de baza'!E:E,"<="&A113,'Date de baza'!C:C)-SUMIF('Date de baza'!F:F,"<"&A113,'Date de baza'!C:C) -> 20970 | H113: =G113*0.0001 -> 2.097 | I113: =IF(G113<10000,G113*20%,IF(G113<20000,G113*25%,IF(G113<25000,G113*30%,IF(G113<30000,G113*33%,IF(G113<40000,G113*50%,IF(G113<50000,G113*60%,G113*60%)))))) -> 6291 | J113: =I113/G113 -> 0.3 | K113: =G113-I113 -> 14679 | L113: =G113/2500 -> 8.388
A114: 43060 | B114: 20 | C114: =B114*90% -> 18 | D114: =6*30 -> 180 | E114: =A114+21 -> 43081 | F114: =E114+D114 -> 43261 | G114: =SUMIF('Date de baza'!E:E,"<="&A114,'Date de baza'!C:C)-SUMIF('Date de baza'!F:F,"<"&A114,'Date de baza'!C:C) -> 20340 | H114: =G114*0.0001 -> 2.034 | I114: =IF(G114<10000,G114*20%,IF(G114<20000,G114*25%,IF(G114<25000,G114*30%,IF(G114<30000,G114*33%,IF(G114<40000,G114*50%,IF(G114<50000,G114*60%,G114*60%)))))) -> 6102 | J114: =I114/G114 -> 0.3 | K114: =G114-I114 -> 14238 | L114: =G114/2500 -> 8.136
A115: 43061 | B115: 20 | C115: =B115*90% -> 18 | D115: =6*30 -> 180 | E115: =A115+21 -> 43082 | F115: =E115+D115 -> 43262 | G115: =SUMIF('Date de baza'!E:E,"<="&A115,'Date de baza'!C:C)-SUMIF('Date de baza'!F:F,"<"&A115,'Date de baza'!C:C) -> 20358 | H115: =G115*0.0001 -> 2.0358 | I115: =IF(G115<10000,G115*20%,IF(G115<20000,G115*25%,IF(G115<25000,G115*30%,IF(G115<30000,G115*33%,IF(G115<40000,G115*50%,IF(G115<50000,G115*60%,G115*60%)))))) -> 6107.4 | J115: =I115/G115 -> 0.3 | K115: =G115-I115 -> 14250.6 | L115: =G115/2500 -> 8.1432
... A134: 43080 | B134: 20 | C134: =B134*90% -> 18 | D134: =6*30 -> 180 | E134: =A134+21 -> 43101 | F134: =E134+D134 -> 43281 | G134: =SUMIF('Date de baza'!E:E,"<="&A134,'Date de baza'!C:C)-SUMIF('Date de baza'!F:F,"<"&A134,'Date de baza'!C:C) -> 20700 | H134: =G134*0.0001 -> 2.07 | I134: =IF(G134<10000,G134*20%,IF(G134<20000,G134*25%,IF(G134<25000,G134*30%,IF(G134<30000,G134*33%,IF(G134<40000,G134*50%,IF(G134<50000,G134*60%,G134*60%)))))) -> 6210 | J134: =I134/G134 -> 0.3 | K134: =G134-I134 -> 14490 | L134: =G134/2500 -> 8.28
...

Sheet Principalele culesuri
A1: Cules | B1: Inceput | C1: Final | D1: Durata | E1: Stimulare
A2: Salcia | B2: 43174 | C2: =B2+D2 -> 43184 | D2: 10 | E2: =B2-40 -> 43134
A3: Pomi fructiferi | B3: 43195 | C3: =B3+D3 -> 43210 | D3: 15 | E3: =B3-40 -> 43155
A4: Rapita | B4: 43191 | C4: =B4+D4 -> 43212 | D4: 21 | E4: =B4-40 -> 43151
A5: Salcam | B5: 43221 | C5: =B5+D5 -> 43231 | D5: 10 | E5: =B5-40 -> 43181
A6: Tei | B6: 43252 | C6: =B6+D6 -> 43272 | D6: 20 | E6: =B6-40 -> 43212
A7: Floarea soarelui | B7: 43273 | C7: =B7+D7 -> 43293 | D7: 20 | E7: =B7-40 -> 43233
A8: Poliflora | B8: 43205 | C8: =B8+D8 -> 43355 | D8: 150 | E8: =B8-40 -> 43165
A9: Vegetatie balta | B9: 43296 | C9: =B9+D9 -> 43356 | D9: 60 | E9: =B9-40 -> 43256
