Workbook

Sheet Date de baza
A1: Data | B1: Matca depune | C1: Ies | D1: Traiesc zile | E1: Data eclozionare | F1: Traiesc pana la | G1: Albine in stup | H1: Kg albine | I1: Culegatoare | J1: % din total | K1: Rest | L1: Nr rame de albina
A2: 42948 | B2: 800 | C2: =B2*90% -> 720 | D2: 45 | E2: =A2+21 -> 42969 | F2: =E2+D2 -> 43014 | G2: =SUMIF('Date de baza'!E:E,"<="&A2,'Date de baza'!C:C)-SUMIF('Date de baza'!F:F,"<"&A2,'Date de baza'!C:C) -> 0 | H2: =G2*0.0001 -> 0 | I2: =IF(G2<10000,G2*20%,IF(G2<20000,G2*25%,IF(G2<25000,G2*30%,IF(G2<30000,G2*33%,IF(G2<40000,G2*50%,IF(G2<50000,G2*60%,G2*60%)))))) -> 0 | J2: =I2/G2 -> #DIV/0! | K2: =G2-I2 -> 0 | L2: =G2/2500 -> 0
A3: 42949 | B3: 800 | C3: =B3*90% -> 720 | D3: 45 | E3: =A3+21 -> 42970 | F3: =E3+D3 -> 43015 | G3: =SUMIF('Date de baza'!E:E,"<="&A3,'Date de baza'!C:C)-SUMIF('Date de baza'!F:F,"<"&A3,'Date de baza'!C:C) -> 0 | H3: =G3*0.0001 -> 0 | I3: =IF(G3<10000,G3*20%,IF(G3<20000,G3*25%,IF(G3<25000,G3*30%,IF(G3<30000,G3*33%,IF(G3<40000,G3*50%,IF(G3<50000,G3*60%,G3*60%)))))) -> 0 | J3: =I3/G3 -> #DIV/0! | K3: =G3-I3 -> 0 | L3: =G3/2500 -> 0
A4: 42950 | B4: 800 | C4: =B4*90% -> 720 | D4: 45 | E4: =A4+21 -> 42971 | F4: =E4+D4 -> 43016 | G4: =SUMIF('Date de baza'!E:E,"<="&A4,'Date de baza'!C:C)-SUMIF('Date de baza'!F:F,"<"&A4,'Date de baza'!C:C) -> 0 | H4: =G4*0.0001 -> 0 | I4: =IF(G4<10000,G4*20%,IF(G4<20000,G4*25%,IF(G4<25000,G4*30%,IF(G4<30000,G4*33%,IF(G4<40000,G4*50%,IF(G4<50000,G4*60%,G4*60%)))))) -> 0 | J4: =I4/G4 -> #DIV/0! | K4: =G4-I4 -> 0 | L4: =G4/2500 -> 0
A5: 42951 | B5: 800 | C5: =B5*90% -> 720 | D5: 45 | E5: =A5+21 -> 42972 | F5: =E5+D5 -> 43017 | G5: =SUMIF('Date de baza'!E:E,"<="&A5,'Date de baza'!C:C)-SUMIF('Date de baza'!F:F,"<"&A5,'Date de baza'!C:C) -> 0 | H5: =G5*0.0001 -> 0 | I5: =IF(G5<10000,G5*20%,IF(G5<20000,G5*25%,IF(G5<25000,G5*30%,IF(G5<30000,G5*33%,IF(G5<40000,G5*50%,IF(G5<50000,G5*60%,G5*60%)))))) -> 0 | J5: =I5/G5 -> #DIV/0! | K5: =G5-I5 -> 0 | L5: =G5/2500 -> 0
A6: 42952 | B6: 800 | C6: =B6*90% -> 720 | D6: 45 | E6: =A6+21 -> 42973 | F6: =E6+D6 -> 43018 | G6: =SUMIF('Date de baza'!E:E,"<="&A6,'Date de baza'!C:C)-SUMIF('Date de baza'!F:F,"<"&A6,'Date de baza'!C:C) -> 0 | H6: =G6*0.0001 -> 0 | I6: =IF(G6<10000,G6*20%,IF(G6<20000,G6*25%,IF(G6<25000,G6*30%,IF(G6<30000,G6*33%,IF(G6<40000,G6*50%,IF(G6<50000,G6*60%,G6*60%)))))) -> 0 | J6: =I6/G6 -> #DIV/0! | K6: =G6-I6 -> 0 | L6: =G6/2500 -> 0
A7: 42953 | B7: 800 | C7: =B7*90% -> 720 | D7: 45 | E7: =A7+21 -> 42974 | F7: =E7+D7 -> 43019 | G7: =SUMIF('Date de baza'!E:E,"<="&A7,'Date de baza'!C:C)-SUMIF('Date de baza'!F:F,"<"&A7,'Date de baza'!C:C) -> 0 | H7: =G7*0.0001 -> 0 | I7: =IF(G7<10000,G7*20%,IF(G7<20000,G7*25%,IF(G7<25000,G7*30%,IF(G7<30000,G7*33%,IF(G7<40000,G7*50%,IF(G7<50000,G7*60%,G7*60%)))))) -> 0 | J7: =I7/G7 -> #DIV/0! | K7: =G7-I7 -> 0 | L7: =G7/2500 -> 0
A8: 42954 | B8: 800 | C8: =B8*90% -> 720 | D8: 45 | E8: =A8+21 -> 42975 | F8: =E8+D8 -> 43020 | G8: =SUMIF('Date de baza'!E:E,"<="&A8,'Date de baza'!C:C)-SUMIF('Date de baza'!F:F,"<"&A8,'Date de baza'!C:C) -> 0 | H8: =G8*0.0001 -> 0 | I8: =IF(G8<10000,G8*20%,IF(G8<20000,G8*25%,IF(G8<25000,G8*30%,IF(G8<30000,G8*33%,IF(G8<40000,G8*50%,IF(G8<50000,G8*60%,G8*60%)))))) -> 0 | J8: =I8/G8 -> #DIV/0! | K8: =G8-I8 -> 0 | L8: =G8/2500 -> 0
A9: 42955 | B9: 800 | C9: =B9*90% -> 720 | D9: 45 | E9: =A9+21 -> 42976 | F9: =E9+D9 -> 43021 | G9: =SUMIF('Date de baza'!E:E,"<="&A9,'Date de baza'!C:C)-SUMIF('Date de baza'!F:F,"<"&A9,'Date de baza'!C:C) -> 0 | H9: =G9*0.0001 -> 0 | I9: =IF(G9<10000,G9*20%,IF(G9<20000,G9*25%,IF(G9<25000,G9*30%,IF(G9<30000,G9*33%,IF(G9<40000,G9*50%,IF(G9<50000,G9*60%,G9*60%)))))) -> 0 | J9: =I9/G9 -> #DIV/0! | K9: =G9-I9 -> 0 | L9: =G9/2500 -> 0
A10: 42956 | B10: 800 | C10: =B10*90% -> 720 | D10: 45 | E10: =A10+21 -> 42977 | F10: =E10+D10 -> 43022 | G10: =SUMIF('Date de baza'!E:E,"<="&A10,'Date de baza'!C:C)-SUMIF('Date de baza'!F:F,"<"&A10,'Date de baza'!C:C) -> 0 | H10: =G10*0.0001 -> 0 | I10: =IF(G10<10000,G10*20%,IF(G10<20000,G10*25%,IF(G10<25000,G10*30%,IF(G10<30000,G10*33%,IF(G10<40000,G10*50%,IF(G10<50000,G10*60%,G10*60%)))))) -> 0 | J10: =I10/G10 -> #DIV/0! | K10: =G10-I10 -> 0 | L10: =G10/2500 -> 0
A11: 42957 | B11: 800 | C11: =B11*90% -> 720 | D11: 45 | E11: =A11+21 -> 42978 | F11: =E11+D11 -> 43023 | G11: =SUMIF('Date de baza'!E:E,"<="&A11,'Date de baza'!C:C)-SUMIF('Date de baza'!F:F,"<"&A11,'Date de baza'!C:C) -> 0 | H11: =G11*0.0001 -> 0 | I11: =IF(G11<10000,G11*20%,IF(G11<20000,G11*25%,IF(G11<25000,G11*30%,IF(G11<30000,G11*33%,IF(G11<40000,G11*50%,IF(G11<50000,G11*60%,G11*60%)))))) -> 0 | J11: =I11/G11 -> #DIV/0! | K11: =G11-I11 -> 0 | L11: =G11/2500 -> 0
A12: 42958 | B12: 800 | C12: =B12*90% -> 720 | D12: 45 | E12: =A12+21 -> 42979 | F12: =E12+D12 -> 43024 | G12: =SUMIF('Date de baza'!E:E,"<="&A12,'Date de baza'!C:C)-SUMIF('Date de baza'!F:F,"<"&A12,'Date de baza'!C:C) -> 0 | H12: =G12*0.0001 -> 0 | I12: =IF(G12<10000,G12*20%,IF(G12<20000,G12*25%,IF(G12<25000,G12*30%,IF(G12<30000,G12*33%,IF(G12<40000,G12*50%,IF(G12<50000,G12*60%,G12*60%)))))) -> 0 | J12: =I12/G12 -> #DIV/0! | K12: =G12-I12 -> 0 | L12: =G12/2500 -> 0
A13: 42959 | B13: 800 | C13: =B13*90% -> 720 | D13: 45 | E13: =A13+21 -> 42980 | F13: =E13+D13 -> 43025 | G13: =SUMIF('Date de baza'!E:E,"<="&A13,'Date de baza'!C:C)-SUMIF('Date de baza'!F:F,"<"&A13,'Date de baza'!C:C) -> 0 | H13: =G13*0.0001 -> 0 | I13: =IF(G13<10000,G13*20%,IF(G13<20000,G13*25%,IF(G13<25000,G13*30%,IF(G13<30000,G13*33%,IF(G13<40000,G13*50%,IF(G13<50000,G13*60%,G13*60%)))))) -> 0 | J13: =I13/G13 -> #DIV/0! | K13: =G13-I13 -> 0 | L13: =G13/2500 -> 0
... A77: 43023 | B77: 200 | C77: =B77*90% -> 180 | D77: 180 | E77: =A77+21 -> 43044 | F77: =E77+D77 -> 43224 | G77: =SUMIF('Date de baza'!E:E,"<="&A77,'Date de baza'!C:C)-SUMIF('Date de baza'!F:F,"<"&A77,'Date de baza'!C:C) -> 28800 | H77: =G77*0.0001 -> 2.88 | I77: =IF(G77<10000,G77*20%,IF(G77<20000,G77*25%,IF(G77<25000,G77*30%,IF(G77<30000,G77*33%,IF(G77<40000,G77*50%,IF(G77<50000,G77*60%,G77*60%)))))) -> 9504 | J77: =I77/G77 -> 0.33 | K77: =G77-I77 -> 19296 | L77: =G77/2500 -> 11.52
A78: 43024 | B78: 100 | C78: =B78*90% -> 90 | D78: =7*30 -> 210 | E78: =A78+21 -> 43045 | F78: =E78+D78 -> 43255 | G78: =SUMIF('Date de baza'!E:E,"<="&A78,'Date de baza'!C:C)-SUMIF('Date de baza'!F:F,"<"&A78,'Date de baza'!C:C) -> 28620 | H78: =G78*0.0001 -> 2.862 | I78: =IF(G78<10000,G78*20%,IF(G78<20000,G78*25%,IF(G78<25000,G78*30%,IF(G78<30000,G78*33%,IF(G78<40000,G78*50%,IF(G78<50000,G78*60%,G78*60%)))))) -> 9444.6 | J78: =I78/G78 -> 0.33 | K78: =G78-I78 -> 19175.4 | L78: =G78/2500 -> 11.448
A79: 43025 | B79: 100 | C79: =B79*90% -> 90 | D79: =7*30 -> 210 | E79: =A79+21 -> 43046 | F79: =E79+D79 -> 43256 | G79: =SUMIF('Date de baza'!E:E,"<="&A79,'Date de baza'!C:C)-SUMIF('Date de baza'!F:F,"<"&A79,'Date de baza'!C:C) -> 28440 | H79: =G79*0.0001 -> 2.844 | I79: =IF(G79<10000,G79*20%,IF(G79<20000,G79*25%,IF(G79<25000,G79*30%,IF(G79<30000,G79*33%,IF(G79<40000,G79*50%,IF(G79<50000,G79*60%,G79*60%)))))) -> 9385.2 | J79: =I79/G79 -> 0.33 | K79: =G79-I79 -> 19054.8 | L79: =G79/2500 -> 11.376
A80: 43026 | B80: 100 | C80: =B80*90% -> 90 | D80: =7*30 -> 210 | E80: =A80+21 -> 43047 | F80: =E80+D80 -> 43257 | G80: =SUMIF('Date de baza'!E:E,"<="&A80,'Date de baza'!C:C)-SUMIF('Date de baza'!F:F,"<"&A80,'Date de baza'!C:C) -> 28260 | H80: =G80*0.0001 -> 2.826 | I80: =IF(G80<10000,G80*20%,IF(G80<20000,G80*25%,IF(G80<25000,G80*30%,IF(G80<30000,G80*33%,IF(G80<40000,G80*50%,IF(G80<50000,G80*60%,G80*60%)))))) -> 9325.8 | J80: =I80/G80 -> 0.33 | K80: =G80-I80 -> 18934.2 | L80: =G80/2500 -> 11.304
A81: 43027 | B81: 100 | C81: =B81*90% -> 90 | D81: =7*30 -> 210 | E81: =A81+21 -> 43048 | F81: =E81+D81 -> 43258 | G81: =SUMIF('Date de baza'!E:E,"<="&A81,'Date de baza'!C:C)-SUMIF('Date de baza'!F:F,"<"&A81,'Date de baza'!C:C) -> 28080 | H81: =G81*0.0001 -> 2.808 | I81: =IF(G81<10000,G81*20%,IF(G81<20000,G81*25%,IF(G81<25000,G81*30%,IF(G81<30000,G81*33%,IF(G81<40000,G81*50%,IF(G81<50000,G81*60%,G81*60%)))))) -> 9266.4 | J81: =I81/G81 -> 0.33 | K81: =G81-I81 -> 18813.6 | L81: =G81/2500 -> 11.232
A82: 43028 | B82: 100 | C82: =B82*90% -> 90 | D82: =7*30 -> 210 | E82: =A82+21 -> 43049 | F82: =E82+D82 -> 43259 | G82: =SUMIF('Date de baza'!E:E,"<="&A82,'Date de baza'!C:C)-SUMIF('Date de baza'!F:F,"<"&A82,'Date de baza'!C:C) -> 27900 | H82: =G82*0.0001 -> 2.79 | I82: =IF(G82<10000,G82*20%,IF(G82<20000,G82*25%,IF(G82<25000,G82*30%,IF(G82<30000,G82*33%,IF(G82<40000,G82*50%,IF(G82<50000,G82*60%,G82*60%)))))) -> 9207 | J82: =I82/G82 -> 0.33 | K82: =G82-I82 -> 18693 | L82: =G82/2500 -> 11.16
A83: 43029 | B83: 100 | C83: =B83*90% -> 90 | D83: =7*30 -> 210 | E83: =A83+21 -> 43050 | F83: =E83+D83 -> 43260 | G83: =SUMIF('Date de baza'!E:E,"<="&A83,'Date de baza'!C:C)-SUMIF('Date de baza'!F:F,"<"&A83,'Date de baza'!C:C) -> 27720 | H83: =G83*0.0001 -> 2.772 | I83: =IF(G83<10000,G83*20%,IF(G83<20000,G83*25%,IF(G83<25000,G83*30%,IF(G83<30000,G83*33%,IF(G83<40000,G83*50%,IF(G83<50000,G83*60%,G83*60%)))))) -> 9147.6 | J83: =I83/G83 -> 0.33 | K83: =G83-I83 -> 18572.4 | L83: =G83/2500 -> 11.088
A84: 43030 | B84: 100 | C84: =B84*90% -> 90 | D84: =7*30 -> 210 | E84: =A84+21 -> 43051 | F84: =E84+D84 -> 43261 | G84: =SUMIF('Date de baza'!E:E,"<="&A84,'Date de baza'!C:C)-SUMIF('Date de baza'!F:F,"<"&A84,'Date de baza'!C:C) -> 27900 | H84: =G84*0.0001 -> 2.79 | I84: =IF(G84<10000,G84*20%,IF(G84<20000,G84*25%,IF(G84<25000,G84*30%,IF(G84<30000,G84*33%,IF(G84<40000,G84*50%,IF(G84<50000,G84*60%,G84*60%)))))) -> 9207 | J84: =I84/G84 -> 0.33 | K84: =G84-I84 -> 18693 | L84: =G84/2500 -> 11.16
A85: 43031 | B85: 100 | C85: =B85*90% -> 90 | D85: =7*30 -> 210 | E85: =A85+21 -> 43052 | F85: =E85+D85 -> 43262 | G85: =SUMIF('Date de baza'!E:E,"<="&A85,'Date de baza'!C:C)-SUMIF('Date de baza'!F:F,"<"&A85,'Date de baza'!C:C) -> 28080 | H85: =G85*0.0001 -> 2.808 | I85: =IF(G85<10000,G85*20%,IF(G85<20000,G85*25%,IF(G85<25000,G85*30%,IF(G85<30000,G85*33%,IF(G85<40000,G85*50%,IF(G85<50000,G85*60%,G85*60%)))))) -> 9266.4 | J85: =I85/G85 -> 0.33 | K85: =G85-I85 -> 18813.6 | L85: =G85/2500 -> 11.232
A86: 43032 | B86: 100 | C86: =B86*90% -> 90 | D86: =7*30 -> 210 | E86: =A86+21 -> 43053 | F86: =E86+D86 -> 43263 | G86: =SUMIF('Date de baza'!E:E,"<="&A86,'Date de baza'!C:C)-SUMIF('Date de baza'!F:F,"<"&A86,'Date de baza'!C:C) -> 28260 | H86: =G86*0.0001 -> 2.826 | I86: =IF(G86<10000,G86*20%,IF(G86<20000,G86*25%,IF(G86<25000,G86*30%,IF(G86<30000,G86*33%,IF(G86<40000,G86*50%,IF(G86<50000,G86*60%,G86*60%)))))) -> 9325.8 | J86: =I86/G86 -> 0.33 | K86: =G86-I86 -> 18934.2 | L86: =G86/2500 -> 11.304
A87: 43033 | B87: 100 | C87: =B87*90% -> 90 | D87: =7*30 -> 210 | E87: =A87+21 -> 43054 | F87: =E87+D87 -> 43264 | G87: =SUMIF('Date de baza'!E:E,"<="&A87,'Date de baza'!C:C)-SUMIF('Date de baza'!F:F,"<"&A87,'Date de baza'!C:C) -> 28440 | H87: =G87*0.0001 -> 2.844 | I87: =IF(G87<10000,G87*20%,IF(G87<20000,G87*25%,IF(G87<25000,G87*30%,IF(G87<30000,G87*33%,IF(G87<40000,G87*50%,IF(G87<50000,G87*60%,G87*60%)))))) -> 9385.2 | J87: =I87/G87 -> 0.33 | K87: =G87-I87 -> 19054.8 | L87: =G87/2500 -> 11.376
A88: 43034 | B88: 100 | C88: =B88*90% -> 90 | D88: =7*30 -> 210 | E88: =A88+21 -> 43055 | F88: =E88+D88 -> 43265 | G88: =SUMIF('Date de baza'!E:E,"<="&A88,'Date de baza'!C:C)-SUMIF('Date de baza'!F:F,"<"&A88,'Date de baza'!C:C) -> 28620 | H88: =G88*0.0001 -> 2.862 | I88: =IF(G88<10000,G88*20%,IF(G88<20000,G88*25%,IF(G88<25000,G88*30%,IF(G88<30000,G88*33%,IF(G88<40000,G88*50%,IF(G88<50000,G88*60%,G88*60%)))))) -> 9444.6 | J88: =I88/G88 -> 0.33 | K88: =G88-I88 -> 19175.4 | L88: =G88/2500 -> 11.448
A89: 43035 | B89: 100 | C89: =B89*90% -> 90 | D89: =7*30 -> 210 | E89: =A89+21 -> 43056 | F89: =E89+D89 -> 43266 | G89: =SUMIF('Date de baza'!E:E,"<="&A89,'Date de baza'!C:C)-SUMIF('Date de baza'!F:F,"<"&A89,'Date de baza'!C:C) -> 28800 | H89: =G89*0.0001 -> 2.88 | I89: =IF(G89<10000,G89*20%,IF(G89<20000,G89*25%,IF(G89<25000,G89*30%,IF(G89<30000,G89*33%,IF(G89<40000,G89*50%,IF(G89<50000,G89*60%,G89*60%)))))) -> 9504 | J89: =I89/G89 -> 0.33 | K89: =G89-I89 -> 19296 | L89: =G89/2500 -> 11.52
... A103: 43049 | B103: 20 | C103: =B103*90% -> 18 | D103: =7*30 -> 210 | E103: =A103+21 -> 43070 | F103: =E103+D103 -> 43280 | G103: =SUMIF('Date de baza'!E:E,"<="&A103,'Date de baza'!C:C)-SUMIF('Date de baza'!F:F,"<"&A103,'Date de baza'!C:C) -> 27270 | H103: =G103*0.0001 -> 2.727 | I103: =IF(G103<10000,G103*20%,IF(G103<20000,G103*25%,IF(G103<25000,G103*30%,IF(G103<30000,G103*33%,IF(G103<40000,G103*50%,IF(G103<50000,G103*60%,G103*60%)))))) -> 8999.1 | J103: =I103/G103 -> 0.33 | K103: =G103-I103 -> 18270.9 | L103: =G103/2500 -> 10.908
A104: 43050 | B104: 20 | C104: =B104*90% -> 18 | D104: =6*30 -> 180 | E104: =A104+21 -> 43071 | F104: =E104+D104 -> 43251 | G104: =SUMIF('Date de baza'!E:E,"<="&A104,'Date de baza'!C:C)-SUMIF('Date de baza'!F:F,"<"&A104,'Date de baza'!C:C) -> 26640 | H104: =G104*0.0001 -> 2.664 | I104: =IF(G104<10000,G104*20%,IF(G104<20000,G104*25%,IF(G104<25000,G104*30%,IF(G104<30000,G104*33%,IF(G104<40000,G104*50%,IF(G104<50000,G104*60%,G104*60%)))))) -> 8791.2 | J104: =I104/G104 -> 0.33 | K104: =G104-I104 -> 17848.8 | L104: =G104/2500 -> 10.656
A105: 43051 | B105: 20 | C105: =B105*90% -> 18 | D105: =6*30 -> 180 | E105: =A105+21 -> 43072 | F105: =E105+D105 -> 43252 | G105: =SUMIF('Date de baza'!E:E,"<="&A105,'Date de baza'!C:C)-SUMIF('Date de baza'!F:F,"<"&A105,'Date de baza'!C:C) -> 26010 | H105: =G105*0.0001 -> 2.601 | I105: =IF(G105<10000,G105*20%,IF(G105<20000,G105*25%,IF(G105<25000,G105*30%,IF(G105<30000,G105*33%,IF(G105<40000,G105*50%,IF(G105<50000,G105*60%,G105*60%)))))) -> 8583.3 | J105: =I105/G105 -> 0.33 | K105: =G105-I105 -> 17426.7 | L105: =G105/2500 -> 10.404
A106: 43052 | B106: 20 | C106: =B106*90% -> 18 | D106: =6*30 -> 180 | E106: =A106+21 -> 43073 | F106: =E106+D106 -> 43253 | G106: =SUMIF('Date de baza'!E:E,"<="&A106,'Date de baza'!C:C)-SUMIF('Date de baza'!F:F,"<"&A106,'Date de baza'!C:C) -> 25380 | H106: =G106*0.0001 -> 2.538 | I106: =IF(G106<10000,G106*20%,IF(G106<20000,G106*25%,IF(G106<25000,G106*30%,IF(G106<30000,G106*33%,IF(G106<40000,G106*50%,IF(G106<50000,G106*60%,G106*60%)))))) -> 8375.4 | J106: =I106/G106 -> 0.33 | K106: =G106-I106 -> 17004.6 | L106: =G106/2500 -> 10.152
A107: 43053 | B107: 20 | C107: =B107*90% -> 18 | D107: =6*30 -> 180 | E107: =A107+21 -> 43074 | F107: =E107+D107 -> 43254 | G107: =SUMIF('Date de baza'!E:E,"<="&A107,'Date de baza'!C:C)-SUMIF('Date de baza'!F:F,"<"&A107,'Date de baza'!C:C) -> 24750 | H107: =G107*0.0001 -> 2.475 | I107: =IF(G107<10000,G107*20%,IF(G107<20000,G107*25%,IF(G107<25000,G107*30%,IF(G107<30000,G107*33%,IF(G107<40000,G107*50%,IF(G107<50000,G107*60%,G107*60%)))))) -> 7425 | J107: =I107/G107 -> 0.3 | K107: =G107-I107 -> 17325 | L107: =G107/2500 -> 9.9
A108: 43054 | B108: 20 | C108: =B108*90% -> 18 | D108: =6*30 -> 180 | E108: =A108+21 -> 43075 | F108: =E108+D108 -> 43255 | G108: =SUMIF('Date de baza'!E:E,"<="&A108,'Date de baza'!C:C)-SUMIF('Date de baza'!F:F,"<"&A108,'Date de baza'!C:C) -> 24120 | H108: =G108*0.0001 -> 2.412 | I108: =IF(G108<10000,G108*20%,IF(G108<20000,G108*25%,IF(G108<25000,G108*30%,IF(G108<30000,G108*33%,IF(G108<40000,G108*50%,IF(G108<50000,G108*60%,G108*60%)))))) -> 7236 | J108: =I108/G108 -> 0.3 | K108: =G108-I108 -> 16884 | L108: =G108/2500 -> 9.648
A109: 43055 | B109: 20 | C109: =B109*90% -> 18 | D109: =6*30 -> 180 | E109: =A109+21 -> 43076 | F109: =E109+D109 -> 43256 | G109: =SUMIF('Date de baza'!E:E,"<="&A109,'Date de baza'!C:C)-SUMIF('Date de baza'!F:F,"<"&A109,'Date de baza'!C:C) -> 23490 | H109: =G109*0.0001 -> 2.349 | I109: =IF(G109<10000,G109*20%,IF(G109<20000,G109*25%,IF(G109<25000,G109*30%,IF(G109<30000,G109*33%,IF(G109<40000,G109*50%,IF(G109<50000,G109*60%,G109*60%)))))) -> 7047 | J109: =I109/G109 -> 0.3 | K109: =G109-I109 -> 16443 | L109: =G109/2500 -> 9.396
A110: 43056 | B110: 20 | C110: =B110*90% -> 18 | D110: =6*30 -> 180 | E110: =A110+21 -> 43077 | F110: =E110+D110 -> 43257 | G110: =SUMIF('Date de baza'!E:E,"<="&A110,'Date de baza'!C:C)-SUMIF('Date de baza'!F:F,"<"&A110,'Date de baza'!C:C) -> 22860 | H110: =G110*0.0001 -> 2.286 | I110: =IF(G110<10000,G110*20%,IF(G110<20000,G110*25%,IF(G110<25000,G110*30%,IF(G110<30000,G110*33%,IF(G110<40000,G110*50%,IF(G110<50000,G110*60%,G110*60%)))))) -> 6858 | J110: =I110/G110 -> 0.3 | K110: =G110-I110 -> 16002 | L110: =G110/2500 -> 9.144
A111: 43057 | B111: 20 | C111: =B111*90% -> 18 | D111: =6*30 -> 180 | E111: =A111+21 -> 43078 | F111: =E111+D111 -> 43258 | G111: =SUMIF('Date de baza'!E:E,"<="&A111,'Date de baza'!C:C)-SUMIF('Date de baza'!F:F,"<"&A111,'Date de baza'!C:C) -> 22230 | H111: =G111*0.0001 -> 2.223 | I111: =IF(G111<10000,G111*20%,IF(G111<20000,G111*25%,IF(G111<25000,G111*30%,IF(G111<30000,G111*33%,IF(G111<40000,G111*50%,IF(G111<50000,G111*60%,G111*60%)))))) -> 6669 | J111: =I111/G111 -> 0.3 | K111: =G111-I111 -> 15561 | L111: =G111/2500 -> 8.892
A112: 43058 | B112: 20 | C112: =B112*90% -> 18 | D112: =6*30 -> 180 | E112: =A112+21 -> 43079 | F112: =E112+D112 -> 43259 | G112: =SUMIF('Date de baza'!E:E,"<="&A112,'Date de baza'!C:C)-SUMIF('Date de baza'!F:F,"<"&A112,'Date de baza'!C:C) -> 21600 | H112: =G112*0.0001 -> 2.16 | I112: =IF(G112<10000,G112*20%,IF(G112<20000,G112*25%,IF(G112<25000,G112*30%,IF(G112<30000,G112*33%,IF(G112<40000,G112*50%,IF(G112<50000,G112*60%,G112*60%)))))) -> 6480 | J112: =I112/G112 -> 0.3 | K112: =G112-I112 -> 15120 | L112: =G112/2500 -> 8.64
A113: 43059 | B113: 20 | C113: =B113*90% -> 18 | D113: =6*30 -> 180 | E113: =A113+21 -> 43080 | F113: =E113+D113 -> 43260 | G113: =SUMIF('Date de baza'!E:E,"<="&A113,'Date de baza'!C:C)-SUMIF('Date de baza'!F:F,"<"&A113,'Date de baza'!C:C) -> 20970 | H113: =G113*0.0001 -> 2.097 | I113: =IF(G113<10000,G113*20%,IF(G113<20000,G113*25%,IF(G113<25000,G113*30%,IF(G113<30000,G113*33%,IF(G113<40000,G113*50%,IF(G113<50000,G113*60%,G113*60%)))))) -> 6291 | J113: =I113/G113 -> 0.3 | K113: =G113-I113 -> 14679 | L113: =G113/2500 -> 8.388
A114: 43060 | B114: 20 | C114: =B114*90% -> 18 | D114: =6*30 -> 180 | E114: =A114+21 -> 43081 | F114: =E114+D114 -> 43261 | G114: =SUMIF('Date de baza'!E:E,"<="&A114,'Date de baza'!C:C)-SUMIF('Date de baza'!F:F,"<"&A114,'Date de baza'!C:C) -> 20340 | H114: =G114*0.0001 -> 2.034 | I114: =IF(G114<10000,G114*20%,IF(G114<20000,G114*25%,IF(G114<25000,G114*30%,IF(G114<30000,G114*33%,IF(G114<40000,G114*50%,IF(G114<50000,G114*60%,G114*60%)))))) -> 6102 | J114: =I114/G114 -> 0.3 | K114: =G114-I114 -> 14238 | L114: =G114/2500 -> 8.136
A115: 43061 | B115: 20 | C115: =B115*90% -> 18 | D115: =6*30 -> 180 | E115: =A115+21 -> 43082 | F115: =E115+D115 -> 43262 | G115: =SUMIF('Date de baza'!E:E,"<="&A115,'Date de baza'!C:C)-SUMIF('Date de baza'!F:F,"<"&A115,'Date de baza'!C:C) -> 20358 | H115: =G115*0.0001 -> 2.0358 | I115: =IF(G115<10000,G115*20%,IF(G115<20000,G115*25%,IF(G115<25000,G115*30%,IF(G115<30000,G115*33%,IF(G115<40000,G115*50%,IF(G115<50000,G115*60%,G115*60%)))))) -> 6107.4 | J115: =I115/G115 -> 0.3 | K115: =G115-I115 -> 14250.6 | L115: =G115/2500 -> 8.1432
... A134: 43080 | B134: 20 | C134: =B134*90% -> 18 | D134: =6*30 -> 180 | E134: =A134+21 -> 43101 | F134: =E134+D134 -> 43281 | G134: =SUMIF('Date de baza'!E:E,"<="&A134,'Date de baza'!C:C)-SUMIF('Date de baza'!F:F,"<"&A134,'Date de baza'!C:C) -> 20700 | H134: =G134*0.0001 -> 2.07 | I134: =IF(G134<10000,G134*20%,IF(G134<20000,G134*25%,IF(G134<25000,G134*30%,IF(G134<30000,G134*33%,IF(G134<40000,G134*50%,IF(G134<50000,G134*60%,G134*60%)))))) -> 6210 | J134: =I134/G134 -> 0.3 | K134: =G134-I134 -> 14490 | L134: =G134/2500 -> 8.28
A135: 43081 | B135: 20 | C135: =B135*90% -> 18 | D135: =5*30 -> 150 | E135: =A135+21 -> 43102 | F135: =E135+D135 -> 43252 | G135: =SUMIF('Date de baza'!E:E,"<="&A135,'Date de baza'!C:C)-SUMIF('Date de baza'!F:F,"<"&A135,'Date de baza'!C:C) -> 20718 | H135: =G135*0.0001 -> 2.0718 | I135: =IF(G135<10000,G135*20%,IF(G135<20000,G135*25%,IF(G135<25000,G135*30%,IF(G135<30000,G135*33%,IF(G135<40000,G135*50%,IF(G135<50000,G135*60%,G135*60%)))))) -> 6215.4 | J135: =I135/G135 -> 0.3 | K135: =G135-I135 -> 14502.6 | L135: =G135/2500 -> 8.2872
A136: 43082 | B136: 20 | C136: =B136*90% -> 18 | D136: =5*30 -> 150 | E136: =A136+21 -> 43103 | F136: =E136+D136 -> 43253 | G136: =SUMIF('Date de baza'!E:E,"<="&A136,'Date de baza'!C:C)-SUMIF('Date de baza'!F:F,"<"&A136,'Date de baza'!C:C) -> 20736 | H136: =G136*0.0001 -> 2.0736 | I136: =IF(G136<10000,G136*20%,IF(G136<20000,G136*25%,IF(G136<25000,G136*30%,IF(G136<30000,G136*33%,IF(G136<40000,G136*50%,IF(G136<50000,G136*60%,G136*60%)))))) -> 6220.8 | J136: =I136/G136 -> 0.3 | K136: =G136-I136 -> 14515.2 | L136: =G136/2500 -> 8.2944
A137: 43083 | B137: 20 | C137: =B137*90% -> 18 | D137: =5*30 -> 150 | E137: =A137+21 -> 43104 | F137: =E137+D137 -> 43254 | G137: =SUMIF('Date de baza'!E:E,"<="&A137,'Date de baza'!C:C)-SUMIF('Date de baza'!F:F,"<"&A137,'Date de baza'!C:C) -> 20754 | H137: =G137*0.0001 -> 2.0754 | I137: =IF(G137<10000,G137*20%,IF(G137<20000,G137*25%,IF(G137<25000,G137*30%,IF(G137<30000,G137*33%,IF(G137<40000,G137*50%,IF(G137<50000,G137*60%,G137*60%)))))) -> 6226.2 | J137: =I137/G137 -> 0.3 | K137: =G137-I137 -> 14527.8 | L137: =G137/2500 -> 8.3016
A138: 43084 | B138: 20 | C138: =B138*90% -> 18 | D138: =5*30 -> 150 | E138: =A138+21 -> 43105 | F138: =E138+D138 -> 43255 | G138: =SUMIF('Date de baza'!E:E,"<="&A138,'Date de baza'!C:C)-SUMIF('Date de baza'!F:F,"<"&A138,'Date de baza'!C:C) -> 20772 | H138: =G138*0.0001 -> 2.0772 | I138: =IF(G138<10000,G138*20%,IF(G138<20000,G138*25%,IF(G138<25000,G138*30%,IF(G138<30000,G138*33%,IF(G138<40000,G138*50%,IF(G138<50000,G138*60%,G138*60%)))))) -> 6231.6 | J138: =I138/G138 -> 0.3 | K138: =G138-I138 -> 14540.4 | L138: =G138/2500 -> 8.3088
A139: 43085 | B139: 20 | C139: =B139*90% -> 18 | D139: =5*30 -> 150 | E139: =A139+21 -> 43106 | F139: =E139+D139 -> 43256 | G139: =SUMIF('Date de baza'!E:E,"<="&A139,'Date de baza'!C:C)-SUMIF('Date de baza'!F:F,"<"&A139,'Date de baza'!C:C) -> 20790 | H139: =G139*0.0001 -> 2.079 | I139: =IF(G139<10000,G139*20%,IF(G139<20000,G139*25%,IF(G139<25000,G139*30%,IF(G139<30000,G139*33%,IF(G139<40000,G139*50%,IF(G139<50000,G139*60%,G139*60%)))))) -> 6237 | J139: =I139/G139 -> 0.3 | K139: =G139-I139 -> 14553 | L139: =G139/2500 -> 8.316
A140: 43086 | B140: 20 | C140: =B140*90% -> 18 | D140: =5*30 -> 150 | E140: =A140+21 -> 43107 | F140: =E140+D140 -> 43257 | G140: =SUMIF('Date de baza'!E:E,"<="&A140,'Date de baza'!C:C)-SUMIF('Date de baza'!F:F,"<"&A140,'Date de baza'!C:C) -> 20808 | H140: =G140*0.0001 -> 2.0808 | I140: =IF(G140<10000,G140*20%,IF(G140<20000,G140*25%,IF(G140<25000,G140*30%,IF(G140<30000,G140*33%,IF(G140<40000,G140*50%,IF(G140<50000,G140*60%,G140*60%)))))) -> 6242.4 | J140: =I140/G140 -> 0.3 | K140: =G140-I140 -> 14565.6 | L140: =G140/2500 -> 8.3232
A141: 43087 | B141: 20 | C141: =B141*90% -> 18 | D141: =5*30 -> 150 | E141: =A141+21 -> 43108 | F141: =E141+D141 -> 43258 | G141: =SUMIF('Date de baza'!E:E,"<="&A141,'Date de baza'!C:C)-SUMIF('Date de baza'!F:F,"<"&A141,'Date de baza'!C:C) -> 20826 | H141: =G141*0.0001 -> 2.0826 | I141: =IF(G141<10000,G141*20%,IF(G141<20000,G141*25%,IF(G141<25000,G141*30%,IF(G141<30000,G141*33%,IF(G141<40000,G141*50%,IF(G141<50000,G141*60%,G141*60%)))))) -> 6247.8 | J141: =I141/G141 -> 0.3 | K141: =G141-I141 -> 14578.2 | L141: =G141/2500 -> 8.3304
A142: 43088 | B142: 20 | C142: =B142*90% -> 18 | D142: =5*30 -> 150 | E142: =A142+21 -> 43109 | F142: =E142+D142 -> 43259 | G142: =SUMIF('Date de baza'!E:E,"<="&A142,'Date de baza'!C:C)-SUMIF('Date de baza'!F:F,"<"&A142,'Date de baza'!C:C) -> 20844 | H142: =G142*0.0001 -> 2.0844 | I142: =IF(G142<10000,G142*20%,IF(G142<20000,G142*25%,IF(G142<25000,G142*30%,IF(G142<30000,G142*33%,IF(G142<40000,G142*50%,IF(G142<50000,G142*60%,G142*60%)))))) -> 6253.2 | J142: =I142/G142 -> 0.3 | K142: =G142-I142 -> 14590.8 | L142: =G142/2500 -> 8.3376
A143: 43089 | B143: 20 | C143: =B143*90% -> 18 | D143: =5*30 -> 150 | E143: =A143+21 -> 43110 | F143: =E143+D143 -> 43260 | G143: =SUMIF('Date de baza'!E:E,"<="&A143,'Date de baza'!C:C)-SUMIF('Date de baza'!F:F,"<"&A143,'Date de baza'!C:C) -> 20862 | H143: =G143*0.0001 -> 2.0862 | I143: =IF(G143<10000,G143*20%,IF(G143<20000,G143*25%,IF(G143<25000,G143*30%,IF(G143<30000,G143*33%,IF(G143<40000,G143*50%,IF(G143<50000,G143*60%,G143*60%)))))) -> 6258.6 | J143: =I143/G143 -> 0.3 | K143: =G143-I143 -> 14603.4 | L143: =G143/2500 -> 8.3448
A144: 43090 | B144: 20 | C144: =B144*90% -> 18 | D144: =5*30 -> 150 | E144: =A144+21 -> 43111 | F144: =E144+D144 -> 43261 | G144: =SUMIF('Date de baza'!E:E,"<="&A144,'Date de baza'!C:C)-SUMIF('Date de baza'!F:F,"<"&A144,'Date de baza'!C:C) -> 20880 | H144: =G144*0.0001 -> 2.088 | I144: =IF(G144<10000,G144*20%,IF(G144<20000,G144*25%,IF(G144<25000,G144*30%,IF(G144<30000,G144*33%,IF(G144<40000,G144*50%,IF(G144<50000,G144*60%,G144*60%)))))) -> 6264 | J144: =I144/G144 -> 0.3 | K144: =G144-I144 -> 14616 | L144: =G144/2500 -> 8.352
A145: 43091 | B145: 20 | C145: =B145*90% -> 18 | D145: =5*30 -> 150 | E145: =A145+21 -> 43112 | F145: =E145+D145 -> 43262 | G145: =SUMIF('Date de baza'!E:E,"<="&A145,'Date de baza'!C:C)-SUMIF('Date de baza'!F:F,"<"&A145,'Date de baza'!C:C) -> 20358 | H145: =G145*0.0001 -> 2.0358 | I145: =IF(G145<10000,G145*20%,IF(G145<20000,G145*25%,IF(G145<25000,G145*30%,IF(G145<30000,G145*33%,IF(G145<40000,G145*50%,IF(G145<50000,G145*60%,G145*60%)))))) -> 6107.4 | J145: =I145/G145 -> 0.3 | K145: =G145-I145 -> 14250.6 | L145: =G145/2500 -> 8.1432
A146: 43092 | B146: 20 | C146: =B146*90% -> 18 | D146: =5*30 -> 150 | E146: =A146+21 -> 43113 | F146: =E146+D146 -> 43263 | G146: =SUMIF('Date de baza'!E:E,"<="&A146,'Date de baza'!C:C)-SUMIF('Date de baza'!F:F,"<"&A146,'Date de baza'!C:C) -> 19836 | H146: =G146*0.0001 -> 1.9836 | I146: =IF(G146<10000,G146*20%,IF(G146<20000,G146*25%,IF(G146<25000,G146*30%,IF(G146<30000,G146*33%,IF(G146<40000,G146*50%,IF(G146<50000,G146*60%,G146*60%)))))) -> 4959 | J146: =I146/G146 -> 0.25 | K146: =G146-I146 -> 14877 | L146: =G146/2500 -> 7.9344
... A154: 43100 | B154: 20 | C154: =B154*90% -> 18 | D154: =5*30 -> 150 | E154: =A154+21 -> 43121 | F154: =E154+D154 -> 43271 | G154: =SUMIF('Date de baza'!E:E,"<="&A154,'Date de baza'!C:C)-SUMIF('Date de baza'!F:F,"<"&A154,'Date de baza'!C:C) -> 15660 | H154: =G154*0.0001 -> 1.566 | I154: =IF(G154<10000,G154*20%,IF(G154<20000,G154*25%,IF(G154<25000,G154*30%,IF(G154<30000,G154*33%,IF(G154<40000,G154*50%,IF(G154<50000,G154*60%,G154*60%)))))) -> 3915 | J154: =I154/G154 -> 0.25 | K154: =G154-I154 -> 11745 | L154: =G154/2500 -> 6.264
A155: 43101 | B155: 0 | C155: =B155*90% -> 0 | D155: =4*30 -> 120 | E155: =A155+21 -> 43122 | F155: =E155+D155 -> 43242 | G155: =SUMIF('Date de baza'!E:E,"<="&A155,'Date de baza'!C:C)-SUMIF('Date de baza'!F:F,"<"&A155,'Date de baza'!C:C) -> 15138 | H155: =G155*0.0001 -> 1.5138 | I155: =IF(G155<10000,G155*20%,IF(G155<20000,G155*25%,IF(G155<25000,G155*30%,IF(G155<30000,G155*33%,IF(G155<40000,G155*50%,IF(G155<50000,G155*60%,G155*60%)))))) -> 3784.5 | J155: =I155/G155 -> 0.25 | K155: =G155-I155 -> 11353.5 | L155: =G155/2500 -> 6.0552
A156: 43102 | B156: 0 | C156: =B156*90% -> 0 | D156: =4*30 -> 120 | E156: =A156+21 -> 43123 | F156: =E156+D156 -> 43243 | G156: =SUMIF('Date de baza'!E:E,"<="&A156,'Date de baza'!C:C)-SUMIF('Date de baza'!F:F,"<"&A156,'Date de baza'!C:C) -> 14616 | H156: =G156*0.0001 -> 1.4616 | I156: =IF(G156<10000,G156*20%,IF(G156<20000,G156*25%,IF(G156<25000,G156*30%,IF(G156<30000,G156*33%,IF(G156<40000,G156*50%,IF(G156<50000,G156*60%,G156*60%)))))) -> 3654 | J156: =I156/G156 -> 0.25 | K156: =G156-I156 -> 10962 | L156: =G156/2500 -> 5.8464
A157: 43103 | B157: 0 | C157: =B157*90% -> 0 | D157: =4*30 -> 120 | E157: =A157+21 -> 43124 | F157: =E157+D157 -> 43244 | G157: =SUMIF('Date de baza'!E:E,"<="&A157,'Date de baza'!C:C)-SUMIF('Date de baza'!F:F,"<"&A157,'Date de baza'!C:C) -> 14094 | H157: =G157*0.0001 -> 1.4094 | I157: =IF(G157<10000,G157*20%,IF(G157<20000,G157*25%,IF(G157<25000,G157*30%,IF(G157<30000,G157*33%,IF(G157<40000,G157*50%,IF(G157<50000,G157*60%,G157*60%)))))) -> 3523.5 | J157: =I157/G157 -> 0.25 | K157: =G157-I157 -> 10570.5 | L157: =G157/2500 -> 5.6376
A158: 43104 | B158: 0 | C158: =B158*90% -> 0 | D158: =4*30 -> 120 | E158: =A158+21 -> 43125 | F158: =E158+D158 -> 43245 | G158: =SUMIF('Date de baza'!E:E,"<="&A158,'Date de baza'!C:C)-SUMIF('Date de baza'!F:F,"<"&A158,'Date de baza'!C:C) -> 13572 | H158: =G158*0.0001 -> 1.3572 | I158: =IF(G158<10000,G158*20%,IF(G158<20000,G158*25%,IF(G158<25000,G158*30%,IF(G158<30000,G158*33%,IF(G158<40000,G158*50%,IF(G158<50000,G158*60%,G158*60%)))))) -> 3393 | J158: =I158/G158 -> 0.25 | K158: =G158-I158 -> 10179 | L158: =G158/2500 -> 5.4288
A159: 43105 | B159: 0 | C159: =B159*90% -> 0 | D159: =4*30 -> 120 | E159: =A159+21 -> 43126 | F159: =E159+D159 -> 43246 | G159: =SUMIF('Date de baza'!E:E,"<="&A159,'Date de baza'!C:C)-SUMIF('Date de baza'!F:F,"<"&A159,'Date de baza'!C:C) -> 13050 | H159: =G159*0.0001 -> 1.305 | I159: =IF(G159<10000,G159*20%,IF(G159<20000,G159*25%,IF(G159<25000,G159*30%,IF(G159<30000,G159*33%,IF(G159<40000,G159*50%,IF(G159<50000,G159*60%,G159*60%)))))) -> 3262.5 | J159: =I159/G159 -> 0.25 | K159: =G159-I159 -> 9787.5 | L159: =G159/2500 -> 5.22
A160: 43106 | B160: 0 | C160: =B160*90% -> 0 | D160: =4*30 -> 120 | E160: =A160+21 -> 43127 | F160: =E160+D160 -> 43247 | G160: =SUMIF('Date de baza'!E:E,"<="&A160,'Date de baza'!C:C)-SUMIF('Date de baza'!F:F,"<"&A160,'Date de baza'!C:C) -> 13068 | H160: =G160*0.0001 -> 1.3068 | I160: =IF(G160<10000,G160*20%,IF(G160<20000,G160*25%,IF(G160<25000,G160*30%,IF(G160<30000,G160*33%,IF(G160<40000,G160*50%,IF(G160<50000,G160*60%,G160*60%)))))) -> 3267 | J160: =I160/G160 -> 0.25 | K160: =G160-I160 -> 9801 | L160: =G160/2500 -> 5.2272
A161: 43107 | B161: 0 | C161: =B161*90% -> 0 | D161: =4*30 -> 120 | E161: =A161+21 -> 43128 | F161: =E161+D161 -> 43248 | G161: =SUMIF('Date de baza'!E:E,"<="&A161,'Date de baza'!C:C)-SUMIF('Date de baza'!F:F,"<"&A161,'Date de baza'!C:C) -> 13086 | H161: =G161*0.0001 -> 1.3086 | I161: =IF(G161<10000,G161*20%,IF(G161<20000,G161*25%,IF(G161<25000,G161*30%,IF(G161<30000,G161*33%,IF(G161<40000,G161*50%,IF(G161<50000,G161*60%,G161*60%)))))) -> 3271.5 | J161: =I161/G161 -> 0.25 | K161: =G161-I161 -> 9814.5 | L161: =G161/2500 -> 5.2344
A162: 43108 | B162: 0 | C162: =B162*90% -> 0 | D162: =4*30 -> 120 | E162: =A162+21 -> 43129 | F162: =E162+D162 -> 43249 | G162: =SUMIF('Date de baza'!E:E,"<="&A162,'Date de baza'!C:C)-SUMIF('Date de baza'!F:F,"<"&A162,'Date de baza'!C:C) -> 13104 | H162: =G162*0.0001 -> 1.3104 | I162: =IF(G162<10000,G162*20%,IF(G162<20000,G162*25%,IF(G162<25000,G162*30%,IF(G162<30000,G162*33%,IF(G162<40000,G162*50%,IF(G162<50000,G162*60%,G162*60%)))))) -> 3276 | J162: =I162/G162 -> 0.25 | K162: =G162-I162 -> 9828 | L162: =G162/2500 -> 5.2416
A163: 43109 | B163: 0 | C163: =B163*90% -> 0 | D163: =4*30 -> 120 | E163: =A163+21 -> 43130 | F163: =E163+D163 -> 43250 | G163: =SUMIF('Date de baza'!E:E,"<="&A163,'Date de baza'!C:C)-SUMIF('Date de baza'!F:F,"<"&A163,'Date de baza'!C:C) -> 13122 | H163: =G163*0.0001 -> 1.3122 | I163: =IF(G163<10000,G163*20%,IF(G163<20000,G163*25%,IF(G163<25000,G163*30%,IF(G163<30000,G163*33%,IF(G163<40000,G163*50%,IF(G163<50000,G163*60%,G163*60%)))))) -> 3280.5 | J163: =I163/G163 -> 0.25 | K163: =G163-I163 -> 9841.5 | L163: =G163/2500 -> 5.2488
A164: 43110 | B164: 0 | C164: =B164*90% -> 0 | D164: =4*30 -> 120 | E164: =A164+21 -> 43131 | F164: =E164+D164 -> 43251 | G164: =SUMIF('Date de baza'!E:E,"<="&A164,'Date de baza'!C:C)-SUMIF('Date de baza'!F:F,"<"&A164,'Date de baza'!C:C) -> 13140 | H164: =G164*0.0001 -> 1.314 | I164: =IF(G164<10000,G164*20%,IF(G164<20000,G164*25%,IF(G164<25000,G164*30%,IF(G164<30000,G164*33%,IF(G164<40000,G164*50%,IF(G164<50000,G164*60%,G164*60%)))))) -> 3285 | J164: =I164/G164 -> 0.25 | K164: =G164-I164 -> 9855 | L164: =G164/2500 -> 5.256
A165: 43111 | B165: 0 | C165: =B165*90% -> 0 | D165: =4*30 -> 120 | E165: =A165+21 -> 43132 | F165: =E165+D165 -> 43252 | G165: =SUMIF('Date de baza'!E:E,"<="&A165,'Date de baza'!C:C)-SUMIF('Date de baza'!F:F,"<"&A165,'Date de baza'!C:C) -> 13158 | H165: =G165*0.0001 -> 1.3158 | I165: =IF(G165<10000,G165*20%,IF(G165<20000,G165*25%,IF(G165<25000,G165*30%,IF(G165<30000,G165*33%,IF(G165<40000,G165*50%,IF(G165<50000,G165*60%,G165*60%)))))) -> 3289.5 | J165: =I165/G165 -> 0.25 | K165: =G165-I165 -> 9868.5 | L165: =G165/2500 -> 5.2632
A166: 43112 | B166: 0 | C166: =B166*90% -> 0 | D166: =4*30 -> 120 | E166: =A166+21 -> 43133 | F166: =E166+D166 -> 43253 | G166: =SUMIF('Date de baza'!E:E,"<="&A166,'Date de baza'!C:C)-SUMIF('Date de baza'!F:F,"<"&A166,'Date de baza'!C:C) -> 13176 | H166: =G166*0.0001 -> 1.3176 | I166: =IF(G166<10000,G166*20%,IF(G166<20000,G166*25%,IF(G166<25000,G166*30%,IF(G166<30000,G166*33%,IF(G166<40000,G166*50%,IF(G166<50000,G166*60%,G166*60%)))))) -> 3294 | J166: =I166/G166 -> 0.25 | K166: =G166-I166 -> 9882 | L166: =G166/2500 -> 5.2704
... A185: 43131 | B185: 20 | C185: =B185*90% -> 18 | D185: =4*30 -> 120 | E185: =A185+21 -> 43152 | F185: =E185+D185 -> 43272 | G185: =SUMIF('Date de baza'!E:E,"<="&A185,'Date de baza'!C:C)-SUMIF('Date de baza'!F:F,"<"&A185,'Date de baza'!C:C) -> 13338 | H185: =G185*0.0001 -> 1.3338 | I185: =IF(G185<10000,G185*20%,IF(G185<20000,G185*25%,IF(G185<25000,G185*30%,IF(G185<30000,G185*33%,IF(G185<40000,G185*50%,IF(G185<50000,G185*60%,G185*60%)))))) -> 3334.5 | J185: =I185/G185 -> 0.25 | K185: =G185-I185 -> 10003.5 | L185: =G185/2500 -> 5.3352
A186: 43132 | B186: 20 | C186: =B186*90% -> 18 | D186: 120 | E186: =A186+21 -> 43153 | F186: =E186+D186 -> 43273 | G186: =SUMIF('Date de baza'!E:E,"<="&A186,'Date de baza'!C:C)-SUMIF('Date de baza'!F:F,"<"&A186,'Date de baza'!C:C) -> 13338 | H186: =G186*0.0001 -> 1.3338 | I186: =IF(G186<10000,G186*20%,IF(G186<20000,G186*25%,IF(G186<25000,G186*30%,IF(G186<30000,G186*33%,IF(G186<40000,G186*50%,IF(G186<50000,G186*60%,G186*60%)))))) -> 3334.5 | J186: =I186/G186 -> 0.25 | K186: =G186-I186 -> 10003.5 | L186: =G186/2500 -> 5.3352
A187: 43133 | B187: 50 | C187: =B187*90% -> 45 | D187: 120 | E187: =A187+21 -> 43154 | F187: =E187+D187 -> 43274 | G187: =SUMIF('Date de baza'!E:E,"<="&A187,'Date de baza'!C:C)-SUMIF('Date de baza'!F:F,"<"&A187,'Date de baza'!C:C) -> 13338 | H187: =G187*0.0001 -> 1.3338 | I187: =IF(G187<10000,G187*20%,IF(G187<20000,G187*25%,IF(G187<25000,G187*30%,IF(G187<30000,G187*33%,IF(G187<40000,G187*50%,IF(G187<50000,G187*60%,G187*60%)))))) -> 3334.5 | J187: =I187/G187 -> 0.25 | K187: =G187-I187 -> 10003.5 | L187: =G187/2500 -> 5.3352
A188: 43134 | B188: 50 | C188: =B188*90% -> 45 | D188: 120 | E188: =A188+21 -> 43155 | F188: =E188+D188 -> 43275 | G188: =SUMIF('Date de baza'!E:E,"<="&A188,'Date de baza'!C:C)-SUMIF('Date de baza'!F:F,"<"&A188,'Date de baza'!C:C) -> 13338 | H188: =G188*0.0001 -> 1.3338 | I188: =IF(G188<10000,G188*20%,IF(G188<20000,G188*25%,IF(G188<25000,G188*30%,IF(G188<30000,G188*33%,IF(G188<40000,G188*50%,IF(G188<50000,G188*60%,G188*60%)))))) -> 3334.5 | J188: =I188/G188 -> 0.25 | K188: =G188-I188 -> 10003.5 | L188: =G188/2500 -> 5.3352
A189: 43135 | B189: 50 | C189: =B189*90% -> 45 | D189: 120 | E189: =A189+21 -> 43156 | F189: =E189+D189 -> 43276 | G189: =SUMIF('Date de baza'!E:E,"<="&A189,'Date de baza'!C:C)-SUMIF('Date de baza'!F:F,"<"&A189,'Date de baza'!C:C) -> 13338 | H189: =G189*0.0001 -> 1.3338 | I189: =IF(G189<10000,G189*20%,IF(G189<20000,G189*25%,IF(G189<25000,G189*30%,IF(G189<30000,G189*33%,IF(G189<40000,G189*50%,IF(G189<50000,G189*60%,G189*60%)))))) -> 3334.5 | J189: =I189/G189 -> 0.25 | K189: =G189-I189 -> 10003.5 | L189: =G189/2500 -> 5.3352
A190: 43136 | B190: 50 | C190: =B190*90% -> 45 | D190: 120 | E190: =A190+21 -> 43157 | F190: =E190+D190 -> 43277 | G190: =SUMIF('Date de baza'!E:E,"<="&A190,'Date de baza'!C:C)-SUMIF('Date de baza'!F:F,"<"&A190,'Date de baza'!C:C) -> 13338 | H190: =G190*0.0001 -> 1.3338 | I190: =IF(G190<10000,G190*20%,IF(G190<20000,G190*25%,IF(G190<25000,G190*30%,IF(G190<30000,G190*33%,IF(G190<40000,G190*50%,IF(G190<50000,G190*60%,G190*60%)))))) -> 3334.5 | J190: =I190/G190 -> 0.25 | K190: =G190-I190 -> 10003.5 | L190: =G190/2500 -> 5.3352
A191: 43137 | B191: 50 | C191: =B191*90% -> 45 | D191: 120 | E191: =A191+21 -> 43158 | F191: =E191+D191 -> 43278 | G191: =SUMIF('Date de baza'!E:E,"<="&A191,'Date de baza'!C:C)-SUMIF('Date de baza'!F:F,"<"&A191,'Date de baza'!C:C) -> 13338 | H191: =G191*0.0001 -> 1.3338 | I191: =IF(G191<10000,G191*20%,IF(G191<20000,G191*25%,IF(G191<25000,G191*30%,IF(G191<30000,G191*33%,IF(G191<40000,G191*50%,IF(G191<50000,G191*60%,G191*60%)))))) -> 3334.5 | J191: =I191/G191 -> 0.25 | K191: =G191-I191 -> 10003.5 | L191: =G191/2500 -> 5.3352
A192: 43138 | B192: 50 | C192: =B192*90% -> 45 | D192: 120 | E192: =A192+21 -> 43159 | F192: =E192+D192 -> 43279 | G192: =SUMIF('Date de baza'!E:E,"<="&A192,'Date de baza'!C:C)-SUMIF('Date de baza'!F:F,"<"&A192,'Date de baza'!C:C) -> 13356 | H192: =G192*0.0001 -> 1.3356 | I192: =IF(G192<10000,G192*20%,IF(G192<20000,G192*25%,IF(G192<25000,G192*30%,IF(G192<30000,G192*33%,IF(G192<40000,G192*50%,IF(G192<50000,G192*60%,G192*60%)))))) -> 3339 | J192: =I192/G192 -> 0.25 | K192: =G192-I192 -> 10017 | L192: =G192/2500 -> 5.3424
A193: 43139 | B193: 50 | C193: =B193*90% -> 45 | D193: 120 | E193: =A193+21 -> 43160 | F193: =E193+D193 -> 43280 | G193: =SUMIF('Date de baza'!E:E,"<="&A193,'Date de baza'!C:C)-SUMIF('Date de baza'!F:F,"<"&A193,'Date de baza'!C:C) -> 13374 | H193: =G193*0.0001 -> 1.3374 | I193: =IF(G193<10000,G193*20%,IF(G193<20000,G193*25%,IF(G193<25000,G193*30%,IF(G193<30000,G193*33%,IF(G193<40000,G193*50%,IF(G193<50000,G193*60%,G193*60%)))))) -> 3343.5 | J193: =I193/G193 -> 0.25 | K193: =G193-I193 -> 10030.5 | L193: =G193/2500 -> 5.3496
A194: 43140 | B194: 50 | C194: =B194*90% -> 45 | D194: 120 | E194: =A194+21 -> 43161 | F194: =E194+D194 -> 43281 | G194: =SUMIF('Date de baza'!E:E,"<="&A194,'Date de baza'!C:C)-SUMIF('Date de baza'!F:F,"<"&A194,'Date de baza'!C:C) -> 13392 | H194: =G194*0.0001 -> 1.3392 | I194: =IF(G194<10000,G194*20%,IF(G194<20000,G194*25%,IF(G194<25000,G194*30%,IF(G194<30000,G194*33%,IF(G194<40000,G194*50%,IF(G194<50000,G194*60%,G194*60%)))))) -> 3348 | J194: =I194/G194 -> 0.25 | K194: =G194-I194 -> 10044 | L194: =G194/2500 -> 5.3568
A195: 43141 | B195: 50 | C195: =B195*90% -> 45 | D195: 120 | E195: =A195+21 -> 43162 | F195: =E195+D195 -> 43282 | G195: =SUMIF('Date de baza'!E:E,"<="&A195,'Date de baza'!C:C)-SUMIF('Date de baza'!F:F,"<"&A195,'Date de baza'!C:C) -> 13410 | H195: =G195*0.0001 -> 1.341 | I195: =IF(G195<10000,G195*20%,IF(G195<20000,G195*25%,IF(G195<25000,G195*30%,IF(G195<30000,G195*33%,IF(G195<40000,G195*50%,IF(G195<50000,G195*60%,G195*60%)))))) -> 3352.5 | J195: =I195/G195 -> 0.25 | K195: =G195-I195 -> 10057.5 | L195: =G195/2500 -> 5.364
A196: 43142 | B196: 50 | C196: =B196*90% -> 45 | D196: 120 | E196: =A196+21 -> 43163 | F196: =E196+D196 -> 43283 | G196: =SUMIF('Date de baza'!E:E,"<="&A196,'Date de baza'!C:C)-SUMIF('Date de baza'!F:F,"<"&A196,'Date de baza'!C:C) -> 13428 | H196: =G196*0.0001 -> 1.3428 | I196: =IF(G196<10000,G196*20%,IF(G196<20000,G196*25%,IF(G196<25000,G196*30%,IF(G196<30000,G196*33%,IF(G196<40000,G196*50%,IF(G196<50000,G196*60%,G196*60%)))))) -> 3357 | J196: =I196/G196 -> 0.25 | K196: =G196-I196 -> 10071 | L196: =G196/2500 -> 5.3712
A197: 43143 | B197: 50 | C197: =B197*90% -> 45 | D197: 120 | E197: =A197+21 -> 43164 | F197: =E197+D197 -> 43284 | G197: =SUMIF('Date de baza'!E:E,"<="&A197,'Date de baza'!C:C)-SUMIF('Date de baza'!F:F,"<"&A197,'Date de baza'!C:C) -> 13446 | H197: =G197*0.0001 -> 1.3446 | I197: =IF(G197<10000,G197*20%,IF(G197<20000,G197*25%,IF(G197<25000,G197*30%,IF(G197<30000,G197*33%,IF(G197<40000,G197*50%,IF(G197<50000,G197*60%,G197*60%)))))) -> 3361.5 | J197: =I197/G197 -> 0.25 | K197: =G197-I197 -> 10084.5 | L197: =G197/2500 -> 5.3784
... A366: 43312 | B366: 1500 | C366: =B366*90% -> 1350 | D366: 40 | E366: =A366+21 -> 43333 | F366: =E366+D366 -> 43373 | G366: =SUMIF('Date de baza'!E:E,"<="&A366,'Date de baza'!C:C)-SUMIF('Date de baza'!F:F,"<"&A366,'Date de baza'!C:C) -> 55350 | H366: =G366*0.0001 -> 5.535 | I366: =IF(G366<10000,G366*20%,IF(G366<20000,G366*25%,IF(G366<25000,G366*30%,IF(G366<30000,G366*33%,IF(G366<40000,G366*50%,IF(G366<50000,G366*60%,G366*60%)))))) -> 33210 | J366: =I366/G366 -> 0.6 | K366: =G366-I366 -> 22140 | L366: =G366/2500 -> 22.14
A367: 43313 | B367: 800 | C367: 720 | D367: 40 | E367: =A367+21 -> 43334 | F367: =E367+D367 -> 43374 | G367: =SUMIF('Date de baza'!E:E,"<="&A367,'Date de baza'!C:C)-SUMIF('Date de baza'!F:F,"<"&A367,'Date de baza'!C:C) -> 55350 | H367: =G367*0.0001 -> 5.535 | I367: =IF(G367<10000,G367*20%,IF(G367<20000,G367*25%,IF(G367<25000,G367*30%,IF(G367<30000,G367*33%,IF(G367<40000,G367*50%,IF(G367<50000,G367*60%,G367*60%)))))) -> 33210 | J367: =I367/G367 -> 0.6 | K367: =G367-I367 -> 22140 | L367: =G367/2500 -> 22.14
A368: 43314 | B368: 800 | C368: 720 | D368: 40 | E368: =A368+21 -> 43335 | F368: =E368+D368 -> 43375 | G368: =SUMIF('Date de baza'!E:E,"<="&A368,'Date de baza'!C:C)-SUMIF('Date de baza'!F:F,"<"&A368,'Date de baza'!C:C) -> 55350 | H368: =G368*0.0001 -> 5.535 | I368: =IF(G368<10000,G368*20%,IF(G368<20000,G368*25%,IF(G368<25000,G368*30%,IF(G368<30000,G368*33%,IF(G368<40000,G368*50%,IF(G368<50000,G368*60%,G368*60%)))))) -> 33210 | J368: =I368/G368 -> 0.6 | K368: =G368-I368 -> 22140 | L368: =G368/2500 -> 22.14
A369: 43315 | B369: 800 | C369: 720 | D369: 40 | E369: =A369+21 -> 43336 | F369: =E369+D369 -> 43376 | G369: =SUMIF('Date de baza'!E:E,"<="&A369,'Date de baza'!C:C)-SUMIF('Date de baza'!F:F,"<"&A369,'Date de baza'!C:C) -> 55350 | H369: =G369*0.0001 -> 5.535 | I369: =IF(G369<10000,G369*20%,IF(G369<20000,G369*25%,IF(G369<25000,G369*30%,IF(G369<30000,G369*33%,IF(G369<40000,G369*50%,IF(G369<50000,G369*60%,G369*60%)))))) -> 33210 | J369: =I369/G369 -> 0.6 | K369: =G369-I369 -> 22140 | L369: =G369/2500 -> 22.14
A370: 43316 | B370: 800 | C370: 720 | D370: 40 | E370: =A370+21 -> 43337 | F370: =E370+D370 -> 43377 | G370: =SUMIF('Date de baza'!E:E,"<="&A370,'Date de baza'!C:C)-SUMIF('Date de baza'!F:F,"<"&A370,'Date de baza'!C:C) -> 55350 | H370: =G370*0.0001 -> 5.535 | I370: =IF(G370<10000,G370*20%,IF(G370<20000,G370*25%,IF(G370<25000,G370*30%,IF(G370<30000,G370*33%,IF(G370<40000,G370*50%,IF(G370<50000,G370*60%,G370*60%)))))) -> 33210 | J370: =I370/G370 -> 0.6 | K370: =G370-I370 -> 22140 | L370: =G370/2500 -> 22.14
A371: 43317 | B371: 800 | C371: 720 | D371: 40 | E371: =A371+21 -> 43338 | F371: =E371+D371 -> 43378 | G371: =SUMIF('Date de baza'!E:E,"<="&A371,'Date de baza'!C:C)-SUMIF('Date de baza'!F:F,"<"&A371,'Date de baza'!C:C) -> 55350 | H371: =G371*0.0001 -> 5.535 | I371: =IF(G371<10000,G371*20%,IF(G371<20000,G371*25%,IF(G371<25000,G371*30%,IF(G371<30000,G371*33%,IF(G371<40000,G371*50%,IF(G371<50000,G371*60%,G371*60%)))))) -> 33210 | J371: =I371/G371 -> 0.6 | K371: =G371-I371 -> 22140 | L371: =G371/2500 -> 22.14
A372: 43318 | B372: 800 | C372: 720 | D372: 40 | E372: =A372+21 -> 43339 | F372: =E372+D372 -> 43379 | G372: =SUMIF('Date de baza'!E:E,"<="&A372,'Date de baza'!C:C)-SUMIF('Date de baza'!F:F,"<"&A372,'Date de baza'!C:C) -> 55350 | H372: =G372*0.0001 -> 5.535 | I372: =IF(G372<10000,G372*20%,IF(G372<20000,G372*25%,IF(G372<25000,G372*30%,IF(G372<30000,G372*33%,IF(G372<40000,G372*50%,IF(G372<50000,G372*60%,G372*60%)))))) -> 33210 | J372: =I372/G372 -> 0.6 | K372: =G372-I372 -> 22140 | L372: =G372/2500 -> 22.14
A373: 43319 | B373: 800 | C373: 720 | D373: 40 | E373: =A373+21 -> 43340 | F373: =E373+D373 -> 43380 | G373: =SUMIF('Date de baza'!E:E,"<="&A373,'Date de baza'!C:C)-SUMIF('Date de baza'!F:F,"<"&A373,'Date de baza'!C:C) -> 55350 | H373: =G373*0.0001 -> 5.535 | I373: =IF(G373<10000,G373*20%,IF(G373<20000,G373*25%,IF(G373<25000,G373*30%,IF(G373<30000,G373*33%,IF(G373<40000,G373*50%,IF(G373<50000,G373*60%,G373*60%)))))) -> 33210 | J373: =I373/G373 -> 0.6 | K373: =G373-I373 -> 22140 | L373: =G373/2500 -> 22.14
A374: 43320 | B374: 800 | C374: 720 | D374: 40 | E374: =A374+21 -> 43341 | F374: =E374+D374 -> 43381 | G374: =SUMIF('Date de baza'!E:E,"<="&A374,'Date de baza'!C:C)-SUMIF('Date de baza'!F:F,"<"&A374,'Date de baza'!C:C) -> 55350 | H374: =G374*0.0001 -> 5.535 | I374: =IF(G374<10000,G374*20%,IF(G374<20000,G374*25%,IF(G374<25000,G374*30%,IF(G374<30000,G374*33%,IF(G374<40000,G374*50%,IF(G374<50000,G374*60%,G374*60%)))))) -> 33210 | J374: =I374/G374 -> 0.6 | K374: =G374-I374 -> 22140 | L374: =G374/2500 -> 22.14
A375: 43321 | B375: 800 | C375: 720 | D375: 40 | E375: =A375+21 -> 43342 | F375: =E375+D375 -> 43382 | G375: =SUMIF('Date de baza'!E:E,"<="&A375,'Date de baza'!C:C)-SUMIF('Date de baza'!F:F,"<"&A375,'Date de baza'!C:C) -> 55350 | H375: =G375*0.0001 -> 5.535 | I375: =IF(G375<10000,G375*20%,IF(G375<20000,G375*25%,IF(G375<25000,G375*30%,IF(G375<30000,G375*33%,IF(G375<40000,G375*50%,IF(G375<50000,G375*60%,G375*60%)))))) -> 33210 | J375: =I375/G375 -> 0.6 | K375: =G375-I375 -> 22140 | L375: =G375/2500 -> 22.14
A376: 43322 | B376: 800 | C376: 720 | D376: 40 | E376: =A376+21 -> 43343 | F376: =E376+D376 -> 43383 | G376: =SUMIF('Date de baza'!E:E,"<="&A376,'Date de baza'!C:C)-SUMIF('Date de baza'!F:F,"<"&A376,'Date de baza'!C:C) -> 55350 | H376: =G376*0.0001 -> 5.535 | I376: =IF(G376<10000,G376*20%,IF(G376<20000,G376*25%,IF(G376<25000,G376*30%,IF(G376<30000,G376*33%,IF(G376<40000,G376*50%,IF(G376<50000,G376*60%,G376*60%)))))) -> 33210 | J376: =I376/G376 -> 0.6 | K376: =G376-I376 -> 22140 | L376: =G376/2500 -> 22.14
A377: 43323 | B377: 800 | C377: 720 | D377: 40 | E377: =A377+21 -> 43344 | F377: =E377+D377 -> 43384 | G377: =SUMIF('Date de baza'!E:E,"<="&A377,'Date de baza'!C:C)-SUMIF('Date de baza'!F:F,"<"&A377,'Date de baza'!C:C) -> 55350 | H377: =G377*0.0001 -> 5.535 | I377: =IF(G377<10000,G377*20%,IF(G377<20000,G377*25%,IF(G377<25000,G377*30%,IF(G377<30000,G377*33%,IF(G377<40000,G377*50%,IF(G377<50000,G377*60%,G377*60%)))))) -> 33210 | J377: =I377/G377 -> 0.6 | K377: =G377-I377 -> 22140 | L377: =G377/2500 -> 22.14
A378: 43324 | B378: 800 | C378: 720 | D378: 40 | E378: =A378+21 -> 43345 | F378: =E378+D378 -> 43385 | G378: =SUMIF('Date de baza'!E:E,"<="&A378,'Date de baza'!C:C)-SUMIF('Date de baza'!F:F,"<"&A378,'Date de baza'!C:C) -> 55350 | H378: =G378*0.0001 -> 5.535 | I378: =IF(G378<10000,G378*20%,IF(G378<20000,G378*25%,IF(G378<25000,G378*30%,IF(G378<30000,G378*33%,IF(G378<40000,G378*50%,IF(G378<50000,G378*60%,G378*60%)))))) -> 33210 | J378: =I378/G378 -> 0.6 | K378: =G378-I378 -> 22140 | L378: =G378/2500 -> 22.14
... A884: 43830 | B884: 20 | C884: 18 | D884: 150 | E884: =A884+21 -> 43851 | F884: =E884+D884 -> 44001 | G884: =SUMIF('Date de baza'!E:E,"<="&A884,'Date de baza'!C:C)-SUMIF('Date de baza'!F:F,"<"&A884,'Date de baza'!C:C) -> 15660 | H884: =G884*0.0001 -> 1.566 | I884: =IF(G884<10000,G884*20%,IF(G884<20000,G884*25%,IF(G884<25000,G884*30%,IF(G884<30000,G884*33%,IF(G884<40000,G884*50%,IF(G884<50000,G884*60%,G884*60%)))))) -> 3915 | J884: =I884/G884 -> 0.25 | K884: =G884-I884 -> 11745 | L884: =G884/2500 -> 6.264

Sheet Principalele culesuri
A1: Cules | B1: Inceput | C1: Final | D1: Durata | E1: Stimulare
A2: Salcia | B2: 43174 | C2: =B2+D2 -> 43184 | D2: 10 | E2: =B2-40 -> 43134
A3: Pomi fructiferi | B3: 43195 | C3: =B3+D3 -> 43210 | D3: 15 | E3: =B3-40 -> 43155
A4: Rapita | B4: 43191 | C4: =B4+D4 -> 43212 | D4: 21 | E4: =B4-40 -> 43151
A5: Salcam | B5: 43221 | C5: =B5+D5 -> 43231 | D5: 10 | E5: =B5-40 -> 43181
A6: Tei | B6: 43252 | C6: =B6+D6 -> 43272 | D6: 20 | E6: =B6-40 -> 43212
A7: Floarea soarelui | B7: 43273 | C7: =B7+D7 -> 43293 | D7: 20 | E7: =B7-40 -> 43233
A8: Poliflora | B8: 43205 | C8: =B8+D8 -> 43355 | D8: 150 | E8: =B8-40 -> 43165
A9: Vegetatie balta | B9: 43296 | C9: =B9+D9 -> 43356 | D9: 60 | E9: =B9-40 -> 43256
